BEGIN:VCALENDAR
VERSION:2.0
PRODID:-//ChamberMaster//Event Calendar 2.0//EN
METHOD:PUBLISH
X-PUBLISHED-TTL:P3D
REFRESH-INTERVAL:P3D
CALSCALE:GREGORIAN
BEGIN:VEVENT
DTSTART:20181206T010000Z
DTEND:20181206T033000Z
X-MICROSOFT-CDO-ALLDAYEVENT:FALSE
SUMMARY:2018 New Mayor and City Council Meet & Greet
DESCRIPTION:A Celebatory Meet and Greet Honoring Costa Mesa's New Mayor and City Council Members. Also a Welcome to ALL NEW 2018 Costa Mesa Chamber Members as well as an Appreciation of ALL Chamber Members!\n\nWednesday\, December 5th\n\n5:00 pm - 7:30 pm\n\nThe Center Club\n\n650 Town Center Drive\n\nCosta Mesa 92626
X-ALT-DESC;FMTTYPE=text/html:A Celebatory Meet and Greet Honoring Costa Mesa&#39\;s New Mayor and City Council Members. Also a Welcome to ALL NEW 2018 Costa Mesa Chamber Members as well as an Appreciation of ALL Chamber Members!<br />\nWednesday\, December 5th<br />\n5:00 pm - 7:30 pm<br />\nThe Center Club<br />\n650 Town Center Drive<br />\nCosta Mesa 92626
LOCATION:
UID:e.2866.9426
SEQUENCE:3
DTSTAMP:20260423T211547Z
URL:https://www.costamesachamber.com/events/details/2018-new-mayor-and-city-council-meet-greet-9426
END:VEVENT

END:VCALENDAR
