BEGIN:VCALENDAR
VERSION:2.0
PRODID:-//ChamberMaster//Event Calendar 2.0//EN
METHOD:PUBLISH
X-PUBLISHED-TTL:P3D
REFRESH-INTERVAL:P3D
CALSCALE:GREGORIAN
BEGIN:VEVENT
DTSTART:20200808T150000Z
DTEND:20200808T190000Z
X-MICROSOFT-CDO-ALLDAYEVENT:FALSE
SUMMARY:2020 EWaste | Shred SmArt with Art! Free
DESCRIPTION:Drive Up and Drop Off your EWaste & Watch Your Documents be Shredded on Sight\n\n\n\n#staysafe #shredsmartwithart
X-ALT-DESC;FMTTYPE=text/html:<span style="background-color:rgb(255\, 255\, 255)\; color:rgb(51\, 51\, 51)\; font-family:sans-serif\,arial\,verdana\,trebuchet ms\; font-size:13px">Drive Up and Drop Off your EWaste &amp\; Watch Your Documents be Shredded on Sight<br />\n<br />\n#staysafe #shredsmartwithart</span>
LOCATION:https://www.google.com/search?q=5299+alton+parkway&rlz=1C1SQJL_enUS777US777&oq=5299+&aqs=chrome.1.69i57j0l7.3898j0j8&sourceid=chrome&ie=UTF-8 5299 Alton Parkway Irvine CA 92604
UID:e.2866.12551
SEQUENCE:3
DTSTAMP:20260422T120800Z
URL:https://www.costamesachamber.com/events/details/2020-ewaste-shred-smart-with-art-12551
END:VEVENT

END:VCALENDAR
