BEGIN:VCALENDAR
VERSION:2.0
PRODID:-//ChamberMaster//Event Calendar 2.0//EN
METHOD:PUBLISH
X-PUBLISHED-TTL:P3D
REFRESH-INTERVAL:P3D
CALSCALE:GREGORIAN
BEGIN:VEVENT
DTSTART:20210112T170000Z
DTEND:20210112T180000Z
X-MICROSOFT-CDO-ALLDAYEVENT:FALSE
SUMMARY:2021 January - Chamber 101
DESCRIPTION:Research shows that businesses that are part of Chambers of Commerce have increased credibility\, visibility\, favorability\, and positive reputation. Come learn how to optimize your membership and use of the chamber's many resources!
X-ALT-DESC;FMTTYPE=text/html:Research shows that businesses that are part of Chambers of Commerce have increased credibility\, visibility\, favorability\, and positive reputation. Come learn how to optimize your membership and use of the chamber&#39\;s many resources!
LOCATION:Via Zoom
UID:e.2866.12585
SEQUENCE:3
DTSTAMP:20260425T125408Z
URL:https://www.costamesachamber.com/events/details/2021-january-chamber-101-12585
END:VEVENT

END:VCALENDAR
