BEGIN:VCALENDAR
VERSION:2.0
PRODID:-//ChamberMaster//Event Calendar 2.0//EN
METHOD:PUBLISH
X-PUBLISHED-TTL:P3D
REFRESH-INTERVAL:P3D
CALSCALE:GREGORIAN
BEGIN:VEVENT
DTSTART:20190928T130000Z
DTEND:20190928T223000Z
X-MICROSOFT-CDO-ALLDAYEVENT:FALSE
SUMMARY:20th Anniversary of Cruisin' For A Cure Car Show
DESCRIPTION:Largest one day car show that could save our men's lives from prostate cancer. FREE prostate cancer screening\, see more than 3\,500 hot rods\, classics\, muscle cars\, trucks\, customs\, vintage\, old and new. No restriction on make\, mode or year. Live entertainment with 3 bands\, over 200 vendors\, 5 buildings filled with cars\, a building with women owned cars\, the hangar is filled with hand picked vehicles\, meet and greet with celebs and more. Cars cruisin' inside the entire fairgrounds all day as well. No appt. necessary for free cancer screening 6 am-3:30. Adults $15 per person\, $13 with AAA card\, Children under 12 are free. For more info. www.cruisinforacure.com or 714-803-9216
X-ALT-DESC;FMTTYPE=text/html:Largest one day car show that could save our men&#39\;s lives from prostate cancer. FREE prostate cancer screening\, see more than 3\,500 hot rods\, classics\, muscle cars\, trucks\, customs\, vintage\, old and new. No restriction on make\, mode or year. Live entertainment with 3 bands\, over 200 vendors\, 5 buildings filled with cars\, a building with women owned cars\, the hangar is filled with hand picked vehicles\, meet and greet with celebs and more. Cars cruisin&#39\; inside the entire fairgrounds all day as well. No appt. necessary for free cancer screening 6 am-3:30. Adults $15 per person\, $13 with AAA card\, Children under 12 are free. For more info. www.cruisinforacure.com or 714-803-9216
LOCATION:OCFair & Event Center 88 Fair Drive Costa Mesa\, CA 92626
UID:e.2866.10812
SEQUENCE:3
DTSTAMP:20260423T064641Z
URL:https://www.costamesachamber.com/events/details/20th-anniversary-of-cruisin-for-a-cure-car-show-10812
END:VEVENT

END:VCALENDAR
