BEGIN:VCALENDAR
VERSION:2.0
PRODID:-//ChamberMaster//Event Calendar 2.0//EN
METHOD:PUBLISH
X-PUBLISHED-TTL:P3D
REFRESH-INTERVAL:P3D
CALSCALE:GREGORIAN
BEGIN:VEVENT
DTSTART:20191012T003000Z
DTEND:20191012T043000Z
X-MICROSOFT-CDO-ALLDAYEVENT:FALSE
SUMMARY:29th Annual SOS Celebrity Chef Dinner
DESCRIPTION:Join us for an evening of fun\, delicious food and drinks\, and philanthropy at the 29th Annual SOS Celebrity Chef Dinner! This event highlights outstanding local chefs with a passion for their community\, and all proceeds benefit SOS and the many services we provide to meet the basic needs of the homeless and low-income individuals and families of Orange County. Take in the stunning ocean views while enjoying hors d'oeuvres stations\, beer and wine tastings\, and live music during the reception and silent auction. After the reception\, the three-course dinner is held in the ballroom with outstanding chefs pairing up to prepare each course. The program will also take place in the ballroom\, where the bidding over the live auction items is sure to be thrilling!
X-ALT-DESC;FMTTYPE=text/html:Join us for an evening of fun\, delicious food and drinks\, and philanthropy at the 29th Annual SOS Celebrity Chef Dinner! This event highlights outstanding local chefs with a passion for their community\, and all proceeds benefit SOS and the many services we provide to meet the basic needs of the homeless and low-income individuals and families of Orange County. Take in the stunning ocean views while enjoying hors d&rsquo\;oeuvres stations\, beer and wine tastings\, and live music during the reception and silent auction. After the reception\, the three-course dinner is held in the ballroom with outstanding chefs pairing up to prepare each course. The program will also take place in the ballroom\, where the bidding over the live auction items is sure to be thrilling!
LOCATION:Pas a Hotel & Spa 21080 Pacific Coast Highway Huntington Beach\, CA 92648
UID:e.2866.10817
SEQUENCE:3
DTSTAMP:20260423T050502Z
URL:https://www.costamesachamber.com/events/details/29th-annual-sos-celebrity-chef-dinner-10817
END:VEVENT

END:VCALENDAR
