BEGIN:VCALENDAR
VERSION:2.0
PRODID:-//ChamberMaster//Event Calendar 2.0//EN
METHOD:PUBLISH
X-PUBLISHED-TTL:P3D
REFRESH-INTERVAL:P3D
CALSCALE:GREGORIAN
BEGIN:VEVENT
DTSTART:20191012T160000Z
DTEND:20191012T180000Z
X-MICROSOFT-CDO-ALLDAYEVENT:FALSE
SUMMARY:75th Anniversary Open House
DESCRIPTION:Free & family friendly event\, featuring an outdoor fair with giveaways\, games\, and a bounce house for the kids!
X-ALT-DESC;FMTTYPE=text/html:<p><span style="font-size:12px"><span style="font-family:arial\,helvetica\,sans-serif">Free &amp\; family friendly event\, featuring an outdoor fair with giveaways\, games\, and a bounce house for the kids!</span></span></p>\n
LOCATION:CMSD Headquarters - 290 Paularino Avenue\, Costa Mesa\, CA 92626
UID:e.2866.11216
SEQUENCE:3
DTSTAMP:20260423T050307Z
URL:https://www.costamesachamber.com/events/details/75th-anniversary-open-house-11216
END:VEVENT

END:VCALENDAR
