BEGIN:VCALENDAR
VERSION:2.0
PRODID:-//ChamberMaster//Event Calendar 2.0//EN
METHOD:PUBLISH
X-PUBLISHED-TTL:P3D
REFRESH-INTERVAL:P3D
CALSCALE:GREGORIAN
BEGIN:VEVENT
DTSTART:20190923T023000Z
DTEND:20190923T050000Z
X-MICROSOFT-CDO-ALLDAYEVENT:FALSE
SUMMARY:9 to 5 The Musical
DESCRIPTION:A timely Musical Comedy.   \n\n\n\n\n\n9 to 5 tells the story of Doralee\, Violet and Judy   three workmates pushed to their boiling point by their sexist and egotistical boss. Concocting a plan to kidnap and turn the tables on their despicable supervisor\, will the women manage to reform their office   or will events unravel when the CEO pays an unexpected visit? Inspired by the cult film and brought to you by Dolly herself\, this hilarious musical comedy is about teaming up\, standing up and taking care of business!
X-ALT-DESC;FMTTYPE=text/html:<span style="font-family:arial\,sans-serif"><span style="font-size:11.0pt">&bull\; A timely Musical Comedy. &bull\;&nbsp\;</span></span><br />\n<br />\n<br />\n<span style="font-family:arial\,sans-serif"><span style="font-size:11.0pt">9 to 5 tells the story of Doralee\, Violet and Judy &ndash\; three workmates pushed to their boiling point by their sexist and egotistical boss. Concocting a plan to kidnap and turn the tables on their despicable supervisor\, will the women manage to reform their office &ndash\; or will events unravel when the CEO pays an unexpected visit? Inspired by the cult film and brought to you by Dolly herself\, this hilarious musical comedy is about teaming up\, standing up and taking care of business!</span></span>
LOCATION:Vanguard Lyceum Theater 55 Fair Dr\, Costa Mesa CA 92626
UID:e.2866.11220
SEQUENCE:3
DTSTAMP:20260423T064424Z
URL:https://www.costamesachamber.com/events/details/9-to-5-the-musical-09-22-2019-11220
END:VEVENT

END:VCALENDAR
