BEGIN:VCALENDAR
VERSION:2.0
PRODID:-//ChamberMaster//Event Calendar 2.0//EN
METHOD:PUBLISH
X-PUBLISHED-TTL:P3D
REFRESH-INTERVAL:P3D
CALSCALE:GREGORIAN
BEGIN:VEVENT
DTSTART:20191116T180000Z
DTEND:20191117T000000Z
X-MICROSOFT-CDO-ALLDAYEVENT:FALSE
SUMMARY:A Festive Plant Pop-Up at HAY Costa Mesa
DESCRIPTION:Join HAY at SOCO in Costa Mesa on Saturday\, November 16 from 10:00 a.m. to 4:00 p.m. for seasonal small bites and an in-store plant pop-up in collaboration with Peacock & Co. to celebrate the holidays! HAY will offer all guests a FREE plant with the purchase of a HAY planter along with 15% off all in-store accessory purchases all day. Hay was founded in 2002 with the ambition to create contemporary furniture with an eye for modern living. Visit HAY at SOCO to discover one of a kind pieces that are perfect for any living space and be sure to visit HAY's website for more information + inspiration: https://us.hay.com/home?lang=en_US
X-ALT-DESC;FMTTYPE=text/html:Join HAY at SOCO in Costa Mesa on Saturday\, November 16 from 10:00 a.m. to 4:00 p.m. for seasonal small bites and an in-store plant pop-up in collaboration with Peacock &amp\; Co. to celebrate the holidays! HAY will offer all guests a FREE plant with the purchase of a HAY planter along with 15% off all in-store accessory purchases all day. Hay was founded in 2002 with the ambition to create contemporary furniture with an eye for modern living. Visit HAY at SOCO to discover one of a kind pieces that are perfect for any living space and be sure to visit HAY&rsquo\;s website for more information + inspiration: https://us.hay.com/home?lang=en_US
LOCATION:HAY at SOCO in Costa Mesa 3303 Hyland Ave at South Coast Collection Costa Mesa\, CA 92626
UID:e.2866.12057
SEQUENCE:3
DTSTAMP:20260423T064445Z
URL:https://www.costamesachamber.com/events/details/a-festive-plant-pop-up-at-hay-costa-mesa-12057
END:VEVENT

END:VCALENDAR
