BEGIN:VCALENDAR
VERSION:2.0
PRODID:-//ChamberMaster//Event Calendar 2.0//EN
METHOD:PUBLISH
X-PUBLISHED-TTL:P3D
REFRESH-INTERVAL:P3D
CALSCALE:GREGORIAN
BEGIN:VEVENT
DTSTART;VALUE=DATE:20260604
DTEND;VALUE=DATE:20260629
TRANSP:TRANSPARENT
X-MICROSOFT-CDO-ALLDAYEVENT:TRUE
SUMMARY:ACTC Summer Musical: The Spitfire Grill
DESCRIPTION:A musical with a heartwarming story of hope\, redemption\, and community\, featuring a troubled newcomer (Percy) who revitalizes a dying Wisconsin diner and town through an essay contest\, revealing deep secrets and fostering healing\, all set to a folk-inspired score that emphasizes the power of human connection and second chances in a small-town America facing uncertainty.\n\n \n\nTICKETS CAN BE PURCHASED AT actctickets.com
X-ALT-DESC;FMTTYPE=text/html:A musical with a heartwarming story of hope\, redemption\, and community\, featuring a troubled newcomer (Percy) who revitalizes a dying Wisconsin diner and town through an essay contest\, revealing deep secrets and fostering healing\, all set to a folk-inspired score that emphasizes the power of human connection and second chances in a small-town America facing uncertainty.<br />\n&nbsp\;<br />\nTICKETS CAN BE PURCHASED AT actctickets.com
LOCATION:Lyceum Theatre 55 Fair Dr. Costa Mesa CA 92626
UID:e.2866.16012
SEQUENCE:3
DTSTAMP:20260419T200356Z
URL:https://www.costamesachamber.com/events/details/actc-summer-musical-the-spitfire-grill-16012
END:VEVENT

END:VCALENDAR
