BEGIN:VCALENDAR
VERSION:2.0
PRODID:-//ChamberMaster//Event Calendar 2.0//EN
METHOD:PUBLISH
X-PUBLISHED-TTL:P3D
REFRESH-INTERVAL:P3D
CALSCALE:GREGORIAN
BEGIN:VEVENT
DTSTART:20191110T023000Z
DTEND:20191110T043000Z
X-MICROSOFT-CDO-ALLDAYEVENT:FALSE
SUMMARY:Address the “What If” at Mike Pearl’s Book Signing + Speaker Event at the Balboa Island Museum
DESCRIPTION:Join the Balboa Island Museum on Saturday\, November 9 from 6:30 p.m. to 8:30 p.m. for a book signing and speaker event with Webby Award Winner and now author Mike Pearl. While guests enjoy an evening of appetizers and wine\, Pearl will speak about his debut book The Day It All Happens. In this book\, Pearl tackles the world's biggest "what if" questions from alien contact\, nuclear war\, and other possible phenomena. Pearl dives into what society could expect if the unthinkable were to occur and truly causes readers to embark on a reading experience they won't soon forget. Guests at the event will hear behind-the-scenes insight into Pearl's inspiration behind the book and will also be able to ask questions of their own. Tickets for the Mike Pearl Book Signing + Speaker event are $10 with books available for purchase at the event. To reserve your seat\, please purchase tickets by visiting: https://www.balboaislandmuseum.org/events/
X-ALT-DESC;FMTTYPE=text/html:Join the Balboa Island Museum on Saturday\, November 9 from 6:30 p.m. to 8:30 p.m. for a book signing and speaker event with Webby Award Winner and now author Mike Pearl. While guests enjoy an evening of appetizers and wine\, Pearl will speak about his debut book The Day It All Happens. In this book\, Pearl tackles the world&rsquo\;s biggest &ldquo\;what if&rdquo\; questions from alien contact\, nuclear war\, and other possible phenomena. Pearl dives into what society could expect if the unthinkable were to occur and truly causes readers to embark on a reading experience they won&rsquo\;t soon forget. Guests at the event will hear behind-the-scenes insight into Pearl&rsquo\;s inspiration behind the book and will also be able to ask questions of their own. Tickets for the Mike Pearl Book Signing + Speaker event are $10 with books available for purchase at the event. To reserve your seat\, please purchase tickets by visiting: https://www.balboaislandmuseum.org/events/
LOCATION:Balboa Island Museum 210 Marine Ave Newport Beach\, CA 92662
UID:e.2866.12054
SEQUENCE:3
DTSTAMP:20260423T065917Z
URL:https://www.costamesachamber.com/events/details/address-the-what-if-at-mike-pearl-s-book-signing-speaker-event-at-the-balboa-island-museum-12054
END:VEVENT

END:VCALENDAR
