BEGIN:VCALENDAR
VERSION:2.0
PRODID:-//ChamberMaster//Event Calendar 2.0//EN
METHOD:PUBLISH
X-PUBLISHED-TTL:P3D
REFRESH-INTERVAL:P3D
CALSCALE:GREGORIAN
BEGIN:VEVENT
DTSTART:20170630T003000Z
DTEND:20170630T023000Z
X-MICROSOFT-CDO-ALLDAYEVENT:FALSE
SUMMARY:After Hours Business Mixer
DESCRIPTION:Special Mixer with Newport Beach Chamber of Commerce
X-ALT-DESC;FMTTYPE=text/html:Special Mixer with Newport Beach Chamber of Commerce
LOCATION:Water Grill 3300 Bristol Street Costa Mesa\, CA 92626
UID:e.2866.736
SEQUENCE:3
DTSTAMP:20260425T020054Z
URL:https://www.costamesachamber.com/events/details/after-hours-business-mixer-736
END:VEVENT

END:VCALENDAR
