BEGIN:VCALENDAR
VERSION:2.0
PRODID:-//ChamberMaster//Event Calendar 2.0//EN
METHOD:PUBLISH
X-PUBLISHED-TTL:P3D
REFRESH-INTERVAL:P3D
CALSCALE:GREGORIAN
BEGIN:VEVENT
DTSTART:20191030T150000Z
DTEND:20191030T163000Z
X-MICROSOFT-CDO-ALLDAYEVENT:FALSE
SUMMARY:Alignable networking workshop in Costa Mesa!
DESCRIPTION:Join Alignable and Staples for a local power networking workshop!\n\nEducational seminars and local networking are great ways to generate new business and share your expertise. We'll share best practices for mastering your meetups.\n\nTopics include:\n\n\n	\n	Hosting Educational Workshops\n	\n	\n	Running Awesome Networking Events\n	\n	\n	Finding Free Venue Space\n	\n	\n	Exploring the Power of Referrals\n	\n\n\nStaples has opened their new Spotlight Space in their Costa Mesa store and will provide refreshments. Don't miss the opportunity to master your meetups!\n\nSpace is limited. Sign up now!
X-ALT-DESC;FMTTYPE=text/html:<p>Join Alignable and Staples for a local power networking workshop!</p>\n\n<p>Educational seminars and local networking are great ways to generate new business and share your expertise. We&#39\;ll share best practices for mastering your meetups.</p>\n\n<p>Topics include:</p>\n\n<ul>\n	<li>\n	<p>Hosting Educational Workshops</p>\n	</li>\n	<li>\n	<p>Running Awesome Networking Events</p>\n	</li>\n	<li>\n	<p>Finding Free Venue Space</p>\n	</li>\n	<li>\n	<p>Exploring the Power of Referrals</p>\n	</li>\n</ul>\n\n<p>Staples&nbsp\;has opened their new&nbsp\;Spotlight Space&nbsp\;in their Costa Mesa store and will provide refreshments. Don&#39\;t miss the opportunity to master your meetups!</p>\n\n<p>Space is limited.&nbsp\;Sign up now!</p>\n
LOCATION:Staples 241 East 17th. Costa Mesa\, CA
UID:e.2866.12055
SEQUENCE:3
DTSTAMP:20260423T050101Z
URL:https://www.costamesachamber.com/events/details/alignable-networking-workshop-in-costa-mesa-12055
END:VEVENT

END:VCALENDAR
