BEGIN:VCALENDAR
VERSION:2.0
PRODID:-//ChamberMaster//Event Calendar 2.0//EN
METHOD:PUBLISH
X-PUBLISHED-TTL:P3D
REFRESH-INTERVAL:P3D
CALSCALE:GREGORIAN
BEGIN:VEVENT
DTSTART:20190914T160000Z
DTEND:20190914T180000Z
X-MICROSOFT-CDO-ALLDAYEVENT:FALSE
SUMMARY:"All Things Water" Workshop
DESCRIPTION:This workshop truly covers "all things water" with topics ranging from the dangers of standing water\, how to be more efficient with your water use at home\, and the havoc that "flushable wipes" can wreak on your sewer pipes! Presenters will include representatives from the Orange County Mosquito and Vector Control District\, Irvine Ranch Water District\, and Costa Mesa Sanitary District.
X-ALT-DESC;FMTTYPE=text/html:<p style="text-align:justify"><span style="font-size:12px"><span style="font-family:arial\,helvetica\,sans-serif"><span style="color:rgb(0\, 0\, 0)">This workshop truly covers &quot\;all things water&quot\; with topics ranging from the dangers of standing water\, how to be more efficient with your water use at home\, and the havoc that &quot\;flushable wipes&quot\; can wreak on your sewer pipes! Presenters will include representatives from the Orange County Mosquito and Vector Control District\, Irvine Ranch Water District\, and Costa Mesa Sanitary District.</span></span></span></p>\n
LOCATION:Costa Mesa Sanitary District Headquarters 290 Paularino Avenue Costa Mesa\, CA 92626
UID:e.2866.11199
SEQUENCE:3
DTSTAMP:20260423T063545Z
URL:https://www.costamesachamber.com/events/details/all-things-water-workshop-11199
END:VEVENT

END:VCALENDAR
