BEGIN:VCALENDAR
VERSION:2.0
PRODID:-//ChamberMaster//Event Calendar 2.0//EN
METHOD:PUBLISH
X-PUBLISHED-TTL:P3D
REFRESH-INTERVAL:P3D
CALSCALE:GREGORIAN
BEGIN:VEVENT
DTSTART:20191027T010000Z
DTEND:20191027T070000Z
X-MICROSOFT-CDO-ALLDAYEVENT:FALSE
SUMMARY:Anti-Gala Halloween Benefit
DESCRIPTION:The Elephant Cooperation invites you to journey into the electric jungle where the acrobatic feats of the animal kingdom come to life in the canopy above. Featuring special performances by The Aerial Studio and special guest DJ Vice. All proceeds will benefit saving the African elephants and the children of Africa.
X-ALT-DESC;FMTTYPE=text/html:The Elephant Cooperation invites you to journey into the electric jungle where the acrobatic feats of the animal kingdom come to life in the canopy above. Featuring special performances by The Aerial Studio and special guest DJ Vice. All proceeds will benefit saving the African elephants and the children of Africa.
LOCATION:AV Irvine\, 16500 Scientific Way\, Irvine\, CA 92618
UID:e.2866.11642
SEQUENCE:3
DTSTAMP:20260423T080738Z
URL:https://www.costamesachamber.com/events/details/anti-gala-halloween-benefit-11642
END:VEVENT

END:VCALENDAR
