BEGIN:VCALENDAR
VERSION:2.0
PRODID:-//ChamberMaster//Event Calendar 2.0//EN
METHOD:PUBLISH
X-PUBLISHED-TTL:P3D
REFRESH-INTERVAL:P3D
CALSCALE:GREGORIAN
BEGIN:VEVENT
DTSTART:20170503T003000Z
DTEND:20170503T023000Z
X-MICROSOFT-CDO-ALLDAYEVENT:FALSE
SUMMARY:Ask the Doc
DESCRIPTION:A special opportunity to ask your most pressing questions directly to experts. Dr. Joshua Grill\, Director of Education for UC Irvine Institute for Memory Impairments and Neurological Disorders (UCI MIND)\, will moderate a panel of clinicians and researchers.
X-ALT-DESC;FMTTYPE=text/html:A special opportunity to ask your most pressing questions directly to experts. Dr. Joshua Grill\, Director of Education for UC Irvine Institute for Memory Impairments and Neurological Disorders (UCI MIND)\, will moderate a panel of clinicians and researchers.
LOCATION:Alzheimer's Orange County 2515 McCabe Way\, Irvine\, CA 92614
UID:e.2866.615
SEQUENCE:3
DTSTAMP:20260425T034817Z
URL:https://www.costamesachamber.com/events/details/ask-the-doc-615
END:VEVENT

END:VCALENDAR
