BEGIN:VCALENDAR
VERSION:2.0
PRODID:-//ChamberMaster//Event Calendar 2.0//EN
METHOD:PUBLISH
X-PUBLISHED-TTL:P3D
REFRESH-INTERVAL:P3D
CALSCALE:GREGORIAN
BEGIN:VEVENT
DTSTART:20190912T010000Z
DTEND:20190912T030000Z
X-MICROSOFT-CDO-ALLDAYEVENT:FALSE
SUMMARY:Back to SOY Night!
DESCRIPTION:Want to learn more about Save Our Youth\, otherwise known as SOY? Join us at our back to SOY Night to meet our staff\, tour our youth center\, and connect with your local commmunity! Refreshments will be provided by Taco Mesa\, and there will be a lucky door prize draw! For information call 949-548-3255.
X-ALT-DESC;FMTTYPE=text/html:Want to learn more about Save Our Youth\, otherwise known as SOY? Join us at our back to SOY Night to meet our staff\, tour our youth center\, and connect with your local commmunity! Refreshments will be provided by Taco Mesa\, and there will be a lucky door prize draw! For information call 949-548-3255.
LOCATION:Save Our Youth 2045 Meyer Place\, Building E Costa Mesa CA 92627 Free parking in lot outside building!
UID:e.2866.11310
SEQUENCE:3
DTSTAMP:20260423T063659Z
URL:https://www.costamesachamber.com/events/details/back-to-soy-night-11310
END:VEVENT

END:VCALENDAR
