BEGIN:VCALENDAR
VERSION:2.0
PRODID:-//ChamberMaster//Event Calendar 2.0//EN
METHOD:PUBLISH
X-PUBLISHED-TTL:P3D
REFRESH-INTERVAL:P3D
CALSCALE:GREGORIAN
BEGIN:VEVENT
DTSTART:20191129T160000Z
DTEND:20191130T050000Z
X-MICROSOFT-CDO-ALLDAYEVENT:FALSE
SUMMARY:Black Friday Blackout Burner at World Gym Athletics
DESCRIPTION:Black Friday Blackout Burner\n\nFriday\, November 29 - 8:00 AM\n\n \n\nWorld Gym Athletics Costa Mesa\n\n3185 Pullman Street\n\nCosta Mesa\, CA 92626\n\n \n\nGuests and Members Welcomed!\n\n \n\nMeet the coaches!\n\nTry our signature training style!\n\nBurn off Thanksgiving calories!\n\nHealthy snacks and drinks!\n\nBlack Friday discounts on shirts\, apparel and recovery tools!\n\n \n\nRSVP TO ATTEND
X-ALT-DESC;FMTTYPE=text/html:<p><strong>Black Friday Blackout Burner</strong></p>\n\n<p>Friday\, November 29 - 8:00 AM</p>\n\n<p>&nbsp\;</p>\n\n<p>World Gym Athletics Costa Mesa</p>\n\n<p>3185 Pullman Street</p>\n\n<p>Costa Mesa\, CA 92626</p>\n\n<p>&nbsp\;</p>\n\n<p>Guests and Members Welcomed!</p>\n\n<p>&nbsp\;</p>\n\n<p>Meet the coaches!</p>\n\n<p>Try our signature training style!</p>\n\n<p>Burn off Thanksgiving calories!</p>\n\n<p>Healthy snacks and drinks!</p>\n\n<p>Black Friday discounts on shirts\, apparel and recovery tools!</p>\n\n<p>&nbsp\;</p>\n\n<p><a href="https://tracker.club-os.com/campaign/click?msgId=&amp\;test=true&amp\;target=mailto%3ADoug.Katona%40WorldGym.com%3Fsubject%3DI%2520want%2520to%2520attend%2520the%2520Black%2520Friday%2520Blackout%2520Burner%26body%3DI%2520want%2520to%2520experience%2520the%2520best%2520workout%2520of%2520my%2520life%2520and%2520burn%2520off%2520all%2520those%2520Thanksgiving%2520calories%21" rel="noopener noreferrer" style="box-sizing: border-box\; background-color: transparent\; color: rgb(0\, 0\, 0)\;" target="_blank" title="https://tracker.club-os.com/campaign/click?msgId=&amp\;test=true&amp\;target=mailto%3ADoug.Katona%40WorldGym.com%3Fsubject%3DI%2520want%2520to%2520attend%2520the%2520Black%2520Friday%2520Blackout%2520Burner%26body%3DI%2520want%2520to%2520experience%2520the%2520best%2520workout%2520of%2520my%2520life%2520and%2520burn%2520off%2520all%2520those%2520Thanksgiving%2520calories%21">RSVP TO ATTEND</a></p>\n
LOCATION:World Gym Athletics Costa Mesa 3185 Pullman Street Costa Mesa\, CA 92626
UID:e.2866.12191
SEQUENCE:3
DTSTAMP:20260423T032852Z
URL:https://www.costamesachamber.com/events/details/black-friday-blackout-burner-at-world-gym-athletics-12191
END:VEVENT

END:VCALENDAR
