BEGIN:VCALENDAR
VERSION:2.0
PRODID:-//ChamberMaster//Event Calendar 2.0//EN
METHOD:PUBLISH
X-PUBLISHED-TTL:P3D
REFRESH-INTERVAL:P3D
CALSCALE:GREGORIAN
BEGIN:VEVENT
DTSTART:20191111T183000Z
DTEND:20191111T223000Z
X-MICROSOFT-CDO-ALLDAYEVENT:FALSE
SUMMARY:CALLING ALL VETERANS! St. John the Baptist School to honor Veterans on Nov 11
DESCRIPTION:Veterans are invited to visit St. John the Baptist Catholic School\, 1021 Baker Street\, Costa Mesa\, on November 11th to share their stories with students.  There will be an assembly at 10:30 a.m. for veterans and grade TK-3 students. A second assembly will be at 1:00 p.m. for veterans and grade 4 8 students. These assemblies will honor veterans and teach the students about the sacrifices veterans have made to secure our nation's freedom. After each assembly there will be a social gathering where veterans will have an opportunity to share their stories with students. \n\nVeterans please RSVP to Bonnie Risse at 714.557.5060 ext 205.  Please let Bonnie know if you will be attending the: 10:30 a.m. assembly with grades TK 3 or the 1:00 p.m. assembly with grades 4 8.\n\nFor more information about St. John the Baptist School\, visit www.sjbschool.net.
X-ALT-DESC;FMTTYPE=text/html:Veterans are invited to visit St. John the Baptist Catholic School\, 1021 Baker Street\, Costa Mesa\, on November 11<sup>th</sup> to share their stories with students.&nbsp\; There will be an assembly at 10:30 a.m. for veterans and grade TK-3 students. A second assembly will be at 1:00 p.m. for veterans and grade 4&mdash\;8 students. These assemblies will honor veterans and teach the students about the sacrifices veterans have made to secure our nation&rsquo\;s freedom. After each assembly there will be a social gathering where veterans will have an opportunity to share their stories with students.&nbsp\;<br />\nVeterans please RSVP to Bonnie Risse at 714.557.5060 ext 205.&nbsp\; Please let Bonnie know if you will be attending the: 10:30 a.m. assembly with grades TK&mdash\;3 or the 1:00 p.m. assembly with grades 4&mdash\;8.<br />\nFor more information about St. John the Baptist School\, visit <a href="http://www.sjbschool.net/">www.sjbschool.net</a>.&nbsp\;
LOCATION:St. John the Baptist Catholic School 1021 Baker Street Costa Mesa\, CA 92626
UID:e.2866.12174
SEQUENCE:3
DTSTAMP:20260423T033220Z
URL:https://www.costamesachamber.com/events/details/calling-all-veterans-st-john-the-baptist-school-to-honor-veterans-on-nov-11-12174
END:VEVENT

END:VCALENDAR
