BEGIN:VCALENDAR
VERSION:2.0
PRODID:-//ChamberMaster//Event Calendar 2.0//EN
METHOD:PUBLISH
X-PUBLISHED-TTL:P3D
REFRESH-INTERVAL:P3D
CALSCALE:GREGORIAN
BEGIN:VEVENT
DTSTART:20190921T170000Z
DTEND:20190921T230000Z
X-MICROSOFT-CDO-ALLDAYEVENT:FALSE
SUMMARY:Caravana Ranchera
DESCRIPTION:Come see Graciela Beltran\, Mercedes Castro\, Federico Villa\, Rozenda Bernal\, Raquenel "Mary Boquitas"\, Leonardo Torres\, Osbaldo Lopez\, and Rafael Valdez all on September 21st at the OC Market Place! We'll have shopping\, food\, beverages\, fun\, and of course DANCING!
X-ALT-DESC;FMTTYPE=text/html:<span style="color:rgb(34\, 81\, 163)\; font-family:proxima_nova_rgregular\,sans-serif\; font-size:18px">Come see Graciela Beltran\, Mercedes Castro\, Federico Villa\, Rozenda Bernal\, Raquenel &quot\;Mary Boquitas&quot\;\, Leonardo Torres\, Osbaldo Lopez\, and Rafael Valdez all on September 21st at the OC Market Place! We&#39\;ll have shopping\, food\, beverages\, fun\, and of course DANCING!</span>
LOCATION:The Orange County Market Place
UID:e.2866.11230
SEQUENCE:3
DTSTAMP:20260423T063823Z
URL:https://www.costamesachamber.com/events/details/caravana-ranchera-11230
END:VEVENT

END:VCALENDAR
