BEGIN:VCALENDAR
VERSION:2.0
PRODID:-//ChamberMaster//Event Calendar 2.0//EN
METHOD:PUBLISH
X-PUBLISHED-TTL:P3D
REFRESH-INTERVAL:P3D
CALSCALE:GREGORIAN
BEGIN:VEVENT
DTSTART:20230514T170000Z
DTEND:20230515T060000Z
X-MICROSOFT-CDO-ALLDAYEVENT:FALSE
SUMMARY:Celebrate Mother's Day at Cafe Sevilla
DESCRIPTION:Celebrate Mother's Day at Cafe Sevilla on Sunday\, May 14th. Treat mom to brunch & bottomless mimosas from 10am-3pm while listening to live Latin music. During brunch\, all moms will receive a complimentary glass of champagne. Our dinner menu is also available all day and we will have another live performance in the evening by Battista 6-9pm. \n\n \n\nWe are also hosting a very special Mother's Day Flamenco & Champagne Brunch show which includes a 2-part flamenco performance and 3-course Spanish brunch including our Avocado Toast to start\, Breakfast Meat Paella for the main entr e\, and Dulce Empanadas for dessert. All moms will also receive a complimentary glass of champagne! Tickets are priced at $69.50 per person and the show starts promptly at 12:30pm\, doors open at 12pm.\n\n \n\nWe are also hosting a very special Mother's Day Flamenco & Champagne Dinner show which includes a 2-part flamenco performance and 3-course Spanish dinner featuring our Shaved Jam n Serrano Ensalada Sevillana followed by our award-winning Paella Valenciana and Lemon Tart with Linguee Cherries for Dessert. All moms will also receive a complimentary glass of champagne! Tickets are priced at $89.50 per person and the show starts at 5pm\, doors open at 4:30pm.\n\n \n\nReservations for brunch are recommended by calling 949-688-1555. Walk-ins are also welcome.\n\n \n\nReservations for the Flamenco & Champagne Brunch as well as there Flamenco & Champagne Dinner are required by calling 949-688-1555 or reservations can also be made online via https://www.cafesevilla.com/promos-costa-mesa/.\n\n \n\nReservations for dinner can be made by calling 949-688-1555 or online via https://www.cafesevilla.com/reservations/. Walk-ins are also welcome.
X-ALT-DESC;FMTTYPE=text/html:<div>\n<p>Celebrate Mother&#39\;s Day at Cafe Sevilla on Sunday\, May 14th. Treat mom to brunch &amp\; bottomless mimosas from 10am-3pm while listening to live Latin music. During brunch\, all moms will receive a complimentary glass of champagne.&nbsp\;Our dinner menu is also available all day and we will have another live performance in the evening by Battista 6-9pm.&nbsp\;</p>\n\n<p>&nbsp\;</p>\n\n<p>We are also hosting a very special Mother&rsquo\;s Day Flamenco &amp\; Champagne Brunch show which includes a 2-part flamenco performance and 3-course Spanish brunch including our Avocado Toast to start\, Breakfast Meat Paella for the main entr&eacute\;e\, and Dulce Empanadas for dessert. All moms will also receive a complimentary glass of champagne! Tickets are priced at $69.50 per person and the show starts promptly at 12:30pm\, doors open at 12pm.</p>\n\n<p>&nbsp\;</p>\n\n<p>We are also hosting a very special Mother&rsquo\;s Day Flamenco &amp\; Champagne Dinner show which includes a 2-part flamenco performance and 3-course Spanish dinner featuring our Shaved Jam&oacute\;n Serrano Ensalada Sevillana followed by our award-winning Paella Valenciana and Lemon Tart with Linguee Cherries for Dessert. All moms will also receive a complimentary glass of champagne! Tickets are priced at $89.50 per person and the show starts at 5pm\, doors open at 4:30pm.</p>\n\n<p>&nbsp\;</p>\n\n<p>Reservations for brunch are recommended&nbsp\;by calling 949-688-1555. Walk-ins are also welcome.</p>\n\n<p>&nbsp\;</p>\n\n<p>Reservations for the Flamenco &amp\; Champagne Brunch as well as there Flamenco &amp\; Champagne Dinner are required&nbsp\;by calling 949-688-1555 or reservations can also be made online via&nbsp\;<a href="https://www.cafesevilla.com/promos-costa-mesa/" rel="noopener noreferrer" style="color: rgb(0\, 102\, 204)\; text-decoration: none\; outline: none\;" target="_blank" title="This external link will open in a new window">https://www.cafesevilla.com/promos-costa-mesa/</a>.</p>\n\n<p>&nbsp\;</p>\n\n<p>Reservations for dinner can be made by calling 949-688-1555 or online via&nbsp\;<a href="https://www.cafesevilla.com/reservations/" rel="noopener noreferrer" style="color: rgb(0\, 102\, 204)\; text-decoration: none\; outline: none\;" target="_blank" title="This external link will open in a new window">https://www.cafesevilla.com/reservations/</a>. Walk-ins are also welcome.</p>\n</div>\n
LOCATION:Caf Sevilla Spanish Restaurant & Tapas Bar 1870 Harbor Blvd Costa Mesa\, CA 92627
UID:e.2866.13758
SEQUENCE:3
DTSTAMP:20260422T054013Z
URL:https://www.costamesachamber.com/events/details/celebrate-mother-s-day-at-cafe-sevilla-13758
END:VEVENT

END:VCALENDAR
