BEGIN:VCALENDAR
VERSION:2.0
PRODID:-//ChamberMaster//Event Calendar 2.0//EN
METHOD:PUBLISH
X-PUBLISHED-TTL:P3D
REFRESH-INTERVAL:P3D
CALSCALE:GREGORIAN
BEGIN:VEVENT
DTSTART:20200513T170000Z
DTEND:20200614T020000Z
X-MICROSOFT-CDO-ALLDAYEVENT:FALSE
SUMMARY:Cheers to Curbside Cocktails from Toast Kitchen + Bakery!
DESCRIPTION:It's time to raise a toast! Chef John Park at Toast Kitchen + Bakery has introduced some of Toast's most popular craft cocktails to the curbside menu. Now you can enjoy your favorite hand-crafted cocktails from Toast in the comfort of your own home and each drink is only $12! Toast's new Curbside Cocktail menu consists of the following:   All Up Pi a (tequila\, jalape o\, pineapple)   Dilly Dilly (black pepper vodka\, dill\, chartreuse)   Hail Mary (tequila\, bloody mix\, habanero)   Lean Margarita   There Will Be Blood Orange (bourbon\, rosemary\, blood orange) Toast Kitchen + Bakery is a modern diner with an Asian flare located in Costa Mesa. Toast has quickly become a breakfast + brunch hotspot\, but also serves lunch\, dinner and dessert. Every quarter\, Toast partners with a different nonprofit in an effort to give back to the community. For more information on Toast Kitchen + Bakery\, please visit: https://www.toastkitchenbakery.com and to place an order for curbside\, head to: https://www.toasttab.com/toastamesa
X-ALT-DESC;FMTTYPE=text/html:It&rsquo\;s time to raise a toast! Chef John Park at Toast Kitchen + Bakery has introduced some of Toast&rsquo\;s most popular craft cocktails to the curbside menu. Now you can enjoy your favorite hand-crafted cocktails from Toast in the comfort of your own home and each drink is only $12! Toast&rsquo\;s new Curbside Cocktail menu consists of the following: &bull\; All Up Pi&ntilde\;a (tequila\, jalape&ntilde\;o\, pineapple) &bull\; Dilly Dilly (black pepper vodka\, dill\, chartreuse) &bull\; Hail Mary (tequila\, bloody mix\, habanero) &bull\; Lean Margarita &bull\; There Will Be Blood Orange (bourbon\, rosemary\, blood orange) Toast Kitchen + Bakery is a modern diner with an Asian flare located in Costa Mesa. Toast has quickly become a breakfast + brunch hotspot\, but also serves lunch\, dinner and dessert. Every quarter\, Toast partners with a different nonprofit in an effort to give back to the community. For more information on Toast Kitchen + Bakery\, please visit: https://www.toastkitchenbakery.com and to place an order for curbside\, head to: https://www.toasttab.com/toastamesa
LOCATION:Toast Kitchen + Bakery 1767 Newport Blvd. Costa Mesa\, CA 92627
UID:e.2866.12541
SEQUENCE:3
DTSTAMP:20260422T153105Z
URL:https://www.costamesachamber.com/events/details/cheers-to-curbside-cocktails-from-toast-kitchen-bakery-12541
END:VEVENT

END:VCALENDAR
