BEGIN:VCALENDAR
VERSION:2.0
PRODID:-//ChamberMaster//Event Calendar 2.0//EN
METHOD:PUBLISH
X-PUBLISHED-TTL:P3D
REFRESH-INTERVAL:P3D
CALSCALE:GREGORIAN
BEGIN:VEVENT
DTSTART:20190920T013000Z
DTEND:20190920T033000Z
X-MICROSOFT-CDO-ALLDAYEVENT:FALSE
SUMMARY:Chef Brian Huskey Competes in the Second Annual Hungry Games!
DESCRIPTION:May the odds be ever in your favor   for the second year in a row\, Bracken's Kitchen will host its signature culinary event\, Hungry Games 2.0\, with special guest Chef Brian Huskey of Tackle Box! This event serves to benefit the less fortunate in Southern California and will take place on Thursday\, September 19 at 6:30 p.m. Chef Huskey\, Co-Owner and Head Chef of Tackle Box\, will be amongst OC's top local chefs competing for the vote of your taste buds. Chef Huskey has volunteered as tribute and will be going head-to-head in a friendly culinary competition to help spread awareness and make a difference to those in need. The competitors will battle it out by creating their own trademark dishes to be judged by guests at the event. In addition to enjoying dishes prepared by professional chefs\, attendees will also enjoy small bites\, appetizers\, beer\, and wine with the opportunity to take part in an auction that will serve to raise money for the cause. It is important to note that 100% of the proceeds from Hungry Games 2.0 will go towards the meaningful and impactful work and programs of Bracken's Kitchen. To register for the Hungry Games 2.0 and watch Chef Huskey take on his competitors\, please visit https://www.brackenskitchen.com/the-hungry-games. There is a limited number of tickets available\, so be sure to buy yours soon!
X-ALT-DESC;FMTTYPE=text/html:May the odds be ever in your favor &ndash\; for the second year in a row\, Bracken&rsquo\;s Kitchen will host its signature culinary event\, Hungry Games 2.0\, with special guest Chef Brian Huskey of Tackle Box! This event serves to benefit the less fortunate in Southern California and will take place on Thursday\, September 19 at 6:30 p.m. Chef Huskey\, Co-Owner and Head Chef of Tackle Box\, will be amongst OC&rsquo\;s top local chefs competing for the vote of your taste buds. Chef Huskey has volunteered as tribute and will be going head-to-head in a friendly culinary competition to help spread awareness and make a difference to those in need. The competitors will battle it out by creating their own trademark dishes to be judged by guests at the event. In addition to enjoying dishes prepared by professional chefs\, attendees will also enjoy small bites\, appetizers\, beer\, and wine with the opportunity to take part in an auction that will serve to raise money for the cause. It is important to note that 100% of the proceeds from Hungry Games 2.0 will go towards the meaningful and impactful work and programs of Bracken&rsquo\;s Kitchen. To register for the Hungry Games 2.0 and watch Chef Huskey take on his competitors\, please visit https://www.brackenskitchen.com/the-hungry-games. There is a limited number of tickets available\, so be sure to buy yours soon!
LOCATION:Bracken's Kitchen 13941 Nautilus Drive Garden Grove\, CA 92843
UID:e.2866.11203
SEQUENCE:3
DTSTAMP:20260423T094226Z
URL:https://www.costamesachamber.com/events/details/chef-brian-huskey-competes-in-the-second-annual-hungry-games-11203
END:VEVENT

END:VCALENDAR
