BEGIN:VCALENDAR
VERSION:2.0
PRODID:-//ChamberMaster//Event Calendar 2.0//EN
METHOD:PUBLISH
X-PUBLISHED-TTL:P3D
REFRESH-INTERVAL:P3D
CALSCALE:GREGORIAN
BEGIN:VEVENT
DTSTART:20230318T170000Z
DTEND:20230318T220000Z
X-MICROSOFT-CDO-ALLDAYEVENT:FALSE
SUMMARY:Clay Hand Building Workshop with Hadley and Ren
DESCRIPTION:Join Hadley and Ren at SOCO & The OC Mix for a one-of-a-kind Clay Hand Building Workshop! On Saturday\, March 18\, guests can take their love of dried and fresh flowers to the next level by creating a handmade ceramic vase to display all the beautiful blooms this season. In this two-hour workshop\, attendees will be guided by local Long Beach ceramic artist Beth Bowman (Beth Bowman Ceramics) to learn how to make their very own vase using simple hand building techniques that just require clay\, your hands\, a few tools and a fun spirit   no previous experience needed! With over 10+ years of clay experience\, Bowman is excited to share the joy of pottery with the community. At the end of this workshop\, the handmade creations will go through several firing processes to ensure top-tier quality\, and will be finished and available for pickup about one month after the workshop. Two time slots are available (10 am - 12:00 pm and 1:00 pm - 3:00 pm) and tickets can be purchased for $65 by visiting https://www.hadleyandren.com/shop/p/clay-hand-building-workshop-march-18th. Limited spots are filling up quick\, so be sure to RSVP today!
X-ALT-DESC;FMTTYPE=text/html:Join Hadley and Ren at SOCO &amp\; The OC Mix for a one-of-a-kind Clay Hand Building Workshop! On Saturday\, March 18\, guests can take their love of dried and fresh flowers to the next level by creating a handmade ceramic vase to display all the beautiful blooms this season. In this two-hour workshop\, attendees will be guided by local Long Beach ceramic artist Beth Bowman (Beth Bowman Ceramics) to learn how to make their very own vase using simple hand building techniques that just require clay\, your hands\, a few tools and a fun spirit &mdash\; no previous experience needed! With over 10+ years of clay experience\, Bowman is excited to share the joy of pottery with the community. At the end of this workshop\, the handmade creations will go through several firing processes to ensure top-tier quality\, and will be finished and available for pickup about one month after the workshop. Two time slots are available (10 am - 12:00 pm and 1:00 pm - 3:00 pm) and tickets can be purchased for $65 by visiting https://www.hadleyandren.com/shop/p/clay-hand-building-workshop-march-18th. Limited spots are filling up quick\, so be sure to RSVP today!
LOCATION:Hadley and Ren (Inside The OC Mix) 3313 Hyland Ave. Costa Mesa\, CA 92626
UID:e.2866.13743
SEQUENCE:3
DTSTAMP:20260422T090214Z
URL:https://www.costamesachamber.com/events/details/clay-hand-building-workshop-with-hadley-and-ren-13743
END:VEVENT

END:VCALENDAR
