BEGIN:VCALENDAR
VERSION:2.0
PRODID:-//ChamberMaster//Event Calendar 2.0//EN
METHOD:PUBLISH
X-PUBLISHED-TTL:P3D
REFRESH-INTERVAL:P3D
CALSCALE:GREGORIAN
BEGIN:VEVENT
DTSTART:20171014T170000Z
DTEND:20171014T210000Z
X-MICROSOFT-CDO-ALLDAYEVENT:FALSE
SUMMARY:Costa Mesa Fire & Rescue Annual Open House
DESCRIPTION:Join Costa Mesa Fire & Rescue for our Annual Fire Prevention Month Recognition! Come meet your local firefighters and department staff\, view amazing fire and life safety equipment and watch our teams in action as they demonstrate a variety of skills and technical operations. Fun for families and fun for all!\n\n\n\nFire Station 4\n\n2300 Placentia Ave\, Costa Mesa\n\n\n\nSaturday\, October 14th\n\n10 AM - 2 PM
X-ALT-DESC;FMTTYPE=text/html:Join Costa Mesa Fire &amp\; Rescue for our Annual Fire Prevention Month Recognition! Come meet your local firefighters and department staff\, view amazing fire and life safety equipment and watch our teams in action as they demonstrate a variety of skills and technical operations. Fun for families and fun for all!<br />\n<br />\n<span style="color: rgb(51\, 51\, 51)\; font-family: sans-serif\, Arial\, Verdana\, &quot\;Trebuchet MS&quot\;\; font-size: 13px\; background-color: rgb(255\, 255\, 255)\;">Fire Station 4</span><br style="color: rgb(51\, 51\, 51)\; font-family: sans-serif\, Arial\, Verdana\, &quot\;Trebuchet MS&quot\;\; font-size: 13px\;" />\n<span style="color: rgb(51\, 51\, 51)\; font-family: sans-serif\, Arial\, Verdana\, &quot\;Trebuchet MS&quot\;\; font-size: 13px\; background-color: rgb(255\, 255\, 255)\;">2300&nbsp\;</span>Placentia<span style="color: rgb(51\, 51\, 51)\; font-family: sans-serif\, Arial\, Verdana\, &quot\;Trebuchet MS&quot\;\; font-size: 13px\; background-color: rgb(255\, 255\, 255)\;">&nbsp\;Ave\, Costa Mesa<br />\n<br />\nSaturday\, October&nbsp\;</span>14th<br style="color: rgb(51\, 51\, 51)\; font-family: sans-serif\, Arial\, Verdana\, &quot\;Trebuchet MS&quot\;\; font-size: 13px\;" />\n<span style="color: rgb(51\, 51\, 51)\; font-family: sans-serif\, Arial\, Verdana\, &quot\;Trebuchet MS&quot\;\; font-size: 13px\; background-color: rgb(255\, 255\, 255)\;">10 AM - 2 PM</span>
LOCATION:Fire Station 4 2300 Placentia Ave\, Costa Mesa
UID:e.2866.2821
SEQUENCE:3
DTSTAMP:20260424T192253Z
URL:https://www.costamesachamber.com/events/details/costa-mesa-fire-rescue-annual-open-house-2821
END:VEVENT

END:VCALENDAR
