BEGIN:VCALENDAR
VERSION:2.0
PRODID:-//ChamberMaster//Event Calendar 2.0//EN
METHOD:PUBLISH
X-PUBLISHED-TTL:P3D
REFRESH-INTERVAL:P3D
CALSCALE:GREGORIAN
BEGIN:VEVENT
DTSTART:20191122T020000Z
DTEND:20191122T050000Z
X-MICROSOFT-CDO-ALLDAYEVENT:FALSE
SUMMARY:Crack Shack Costa Mesa x Pizza Port IPA Release Party
DESCRIPTION:We brewed a beer with help from our friends at Pizza Port Brewing Co....and it's clucking delicious if we do say so ourselves. And really limited! So grab your peeps and join us to tap the keg and enjoy it. For one night only\, we'll have a Pizza Port Tribute Sandwich special to pair with your brew. EARLY BIRD SPECIAL: The first 100 guests to order "Juicy as CLUCK!" will also get a custom Crack Shack koozie ?? As always\, bring your pups and lil' cluckers too--there's something for the whole family!
X-ALT-DESC;FMTTYPE=text/html:We brewed a beer with help from our friends at Pizza Port Brewing Co....and it&#39\;s clucking delicious if we do say so ourselves. And really limited! So grab your peeps and join us to tap the keg and enjoy it. For one night only\, we&#39\;ll have a Pizza Port Tribute Sandwich special to pair with your brew. EARLY BIRD SPECIAL: The first 100 guests to order &quot\;Juicy as CLUCK!&quot\; will also get a custom Crack Shack koozie ?? As always\, bring your pups and lil&#39\; cluckers too--there&#39\;s something for the whole family!
LOCATION:The Crack Shack Costa Mesa 196 17th Street
UID:e.2866.12179
SEQUENCE:3
DTSTAMP:20260423T051116Z
URL:https://www.costamesachamber.com/events/details/crack-shack-costa-mesa-x-pizza-port-ipa-release-party-12179
END:VEVENT

END:VCALENDAR
