BEGIN:VCALENDAR
VERSION:2.0
PRODID:-//ChamberMaster//Event Calendar 2.0//EN
METHOD:PUBLISH
X-PUBLISHED-TTL:P3D
REFRESH-INTERVAL:P3D
CALSCALE:GREGORIAN
BEGIN:VEVENT
DTSTART:20191104T180000Z
DTEND:20191104T220000Z
X-MICROSOFT-CDO-ALLDAYEVENT:FALSE
SUMMARY:Culinary & Hospitality Job Fair
DESCRIPTION:DETAILS:\n\n\n	Culinary Arts & Hospitality Job Fair\n	Monday\, November 4\, 2019\, 10:00 am   2:00 pm\n	Job Fair will be held at IKEA Costa Mesa (Kiruna Room   2nd floor) 1475 S. Coast Dr.\, Costa Mesa\, CA. 92626\n	Various restaurants / employers will be recruiting at this event\n	Sponsored by: CHOPS Jobs\, Inc.\, Orange Coast Hospitality Group\, Costa Mesa Chamber of Commerce and IKEA\n\n\nJOB SEEKERS:\n\n\n	Connect with restaurants / employers who are looking to hire in the Culinary and Hospitality industry\n	Register to attend this FREE event for job seekers   https://culinaryhospitalityjobfair.eventbrite.com\n	Post your resume on ChopsJobs.com and start applying for jobs today   https://chopsjobs.com/submit-resume/\n	Bring copies of your resume to the Job Fair\n	Employers may interview on the spot\, so be prepared\n	Job Fair Tips: How to Stand Out at a Job Fair\n\n\nRESTAURANTS / EMPLOYERS:\n\n\n	Register to Participate: https://chopsjobs.ticketbud.com/culinaryhospitalityjobfair\n	Registration Fee: $100 includes the following:\n	\n		(1) 6 ft. table and (2) chairs inside the Kiruna Room (2nd floor) at IKEA Costa Mesa\n		Lunch provided for employer representatives\n		(1) job posting on ChopsJobs.com for 30 days to promote jobs you'll be recruiting for at the Job Fair ($50 value)\n		Private interview rooms are available for employers at the Job Fair\n		Free parking at IKEA\n	\n	\n	Limited tables available   register today! Tables will be reserved on a first come\, first serve basis until all tables are filled.\n	Early bird registration fee: 10% off registration fee until midnight on 10/14/19. Input EARLYBIRD in the Promotional Code field to receive discount.\n	No refunds\n	Employers are responsible to provide their own tablecloth and promotional materials. WIFI and electrical outlets are available\, however employers should bring their own extension cord.\n	The Job Fair will be held from 10 AM   2PM. Set-up begins at 9 AM and employers should be ready to accept candidates by 10 AM. Employers must remain open until 2 PM.\n\n\nLIST OF EMPLOYERS RECRUITING AT THE JOB FAIR:\n\n\n	Coming soon!\n\n\nFURTHER INFO:\n\n\n	Email: info@chopsjobs.com\n\n\nSPONSORED BY:\n\n\n	CHOPS Jobs\, Inc.\, Orange Coast Hospitality Group\, Costa Mesa Chamber of Commerce and IKEA
X-ALT-DESC;FMTTYPE=text/html:<h4><strong>DETAILS:</strong></h4>\n\n<ul>\n	<li>Culinary Arts &amp\; Hospitality Job Fair</li>\n	<li>Monday\, November 4\, 2019\,&nbsp\;10:00 am &ndash\; 2:00 pm</li>\n	<li>Job Fair will be held at IKEA Costa Mesa (Kiruna Room &ndash\; 2nd floor) 1475 S. Coast Dr.\, Costa Mesa\, CA. 92626</li>\n	<li>Various restaurants / employers will be recruiting at this event</li>\n	<li>Sponsored by: CHOPS Jobs\, Inc.\, Orange Coast Hospitality Group\, Costa Mesa Chamber of Commerce and IKEA</li>\n</ul>\n\n<h4><strong>JOB SEEKERS:</strong></h4>\n\n<ul>\n	<li>Connect with restaurants / employers who are looking to hire in the Culinary and Hospitality industry</li>\n	<li>Register to attend this FREE event for job seekers &ndash\;&nbsp\;<a href="https://culinaryhospitalityjobfair.eventbrite.com/" style="box-sizing: inherit\; background-color: transparent\; line-height: inherit\; color: rgb(40\, 45\, 53)\; text-decoration-line: none\; cursor: pointer\;">https://culinaryhospitalityjobfair.eventbrite.com</a></li>\n	<li>Post your resume on ChopsJobs.com and start applying for jobs today &ndash\;&nbsp\;<a href="https://chopsjobs.com/submit-resume/" style="box-sizing: inherit\; background-color: transparent\; line-height: inherit\; color: rgb(40\, 45\, 53)\; text-decoration-line: none\; cursor: pointer\;">https://chopsjobs.com/submit-resume/</a></li>\n	<li>Bring copies of your resume to the Job Fair</li>\n	<li>Employers may interview on the spot\, so be prepared</li>\n	<li>Job Fair Tips:&nbsp\;<a href="https://chopsjobs.com/job-fair-tips/" style="box-sizing: inherit\; background-color: transparent\; line-height: inherit\; color: rgb(40\, 45\, 53)\; text-decoration-line: none\; cursor: pointer\;">How to Stand Out at a Job Fair</a></li>\n</ul>\n\n<h4><strong>RESTAURANTS / EMPLOYERS:</strong></h4>\n\n<ul>\n	<li>Register to Participate:&nbsp\;<a href="https://chopsjobs.ticketbud.com/culinaryhospitalityjobfair" style="box-sizing: inherit\; background-color: transparent\; line-height: inherit\; color: rgb(40\, 45\, 53)\; text-decoration-line: none\; cursor: pointer\;">https://chopsjobs.ticketbud.com/culinaryhospitalityjobfair</a></li>\n	<li>Registration Fee: $100 includes the following:\n	<ul style="list-style-type:disc">\n		<li>(1) 6 ft. table and (2) chairs inside the Kiruna Room (2nd floor) at IKEA Costa Mesa</li>\n		<li>Lunch provided for employer representatives</li>\n		<li>(1) job posting on ChopsJobs.com for 30 days to promote jobs you&rsquo\;ll be recruiting for at the Job Fair ($50 value)</li>\n		<li>Private interview rooms are available for employers at the Job Fair</li>\n		<li>Free parking at IKEA</li>\n	</ul>\n	</li>\n	<li>Limited tables available &ndash\; register today! Tables will be reserved on a first come\, first serve basis until all tables are filled.</li>\n	<li>Early bird registration fee: 10% off registration fee until midnight on 10/14/19. Input EARLYBIRD in the Promotional Code field to receive discount.</li>\n	<li>No refunds</li>\n	<li>Employers are responsible to provide their own tablecloth and promotional materials. WIFI and electrical outlets are available\, however employers should bring their own extension cord.</li>\n	<li>The Job Fair will be held from 10 AM &ndash\; 2PM. Set-up begins at 9 AM and employers should be ready to accept candidates by 10 AM. Employers must remain open until 2 PM.</li>\n</ul>\n\n<h4><strong>LIST OF EMPLOYERS RECRUITING AT THE JOB FAIR:</strong></h4>\n\n<ul>\n	<li>Coming soon!</li>\n</ul>\n\n<h4><strong>FURTHER INFO:</strong></h4>\n\n<ul>\n	<li>Email:&nbsp\;<a href="mailto:info@chopsjobs.com" style="box-sizing: inherit\; background-color: transparent\; line-height: inherit\; color: rgb(40\, 45\, 53)\; text-decoration-line: none\; cursor: pointer\;">info@chopsjobs.com</a></li>\n</ul>\n\n<h4><strong>SPONSORED BY:</strong></h4>\n\n<ul>\n	<li>CHOPS Jobs\, Inc.\, Orange Coast Hospitality Group\, Costa Mesa Chamber of Commerce and IKEA</li>\n</ul>\n
LOCATION:The Job Fair will be held inside IKEA Costa Mesa - 1475 S. Coast Dr. (Kiruna Room\, 2nd floor)\, Costa Mesa\, CA. 92626
UID:e.2866.11641
SEQUENCE:3
DTSTAMP:20260423T064338Z
URL:https://www.costamesachamber.com/events/details/culinary-hospitality-job-fair-11641
END:VEVENT

END:VCALENDAR
