BEGIN:VCALENDAR
VERSION:2.0
PRODID:-//ChamberMaster//Event Calendar 2.0//EN
METHOD:PUBLISH
X-PUBLISHED-TTL:P3D
REFRESH-INTERVAL:P3D
CALSCALE:GREGORIAN
BEGIN:VEVENT
DTSTART:20191117T180000Z
DTEND:20191118T060000Z
X-MICROSOFT-CDO-ALLDAYEVENT:FALSE
SUMMARY:Descanso's 1 year Anniversary
DESCRIPTION:Help Descanso Celebrate their 1 year Anniversary! There will be food and drink specials all day\, live music\, specialty menu items\, games and more! \n\n\n\nBrunch Specials begin at 10am- 2pm \n\nCourtyard Fiesta :: 1pm-5pm \n\nPlancha Features : 5pm-Close
X-ALT-DESC;FMTTYPE=text/html:Help Descanso Celebrate their 1 year Anniversary! There will be food and drink specials all day\, live music\, specialty menu items\, games and more!&nbsp\;<br />\n<br />\nBrunch Specials begin at 10am- 2pm&nbsp\;<br />\nCourtyard Fiesta :: 1pm-5pm&nbsp\;<br />\nPlancha Features : 5pm-Close&nbsp\;
LOCATION:Descanso 1555 Adams Ave. Ste 103\, Costa Mesa\, Ca 92626
UID:e.2866.12175
SEQUENCE:3
DTSTAMP:20260423T064120Z
URL:https://www.costamesachamber.com/events/details/descanso-s-1-year-anniversary-12175
END:VEVENT

END:VCALENDAR
