BEGIN:VCALENDAR
VERSION:2.0
PRODID:-//ChamberMaster//Event Calendar 2.0//EN
METHOD:PUBLISH
X-PUBLISHED-TTL:P3D
REFRESH-INTERVAL:P3D
CALSCALE:GREGORIAN
BEGIN:VEVENT
DTSTART;VALUE=DATE:20200814
DTEND;VALUE=DATE:20200913
TRANSP:TRANSPARENT
X-MICROSOFT-CDO-ALLDAYEVENT:TRUE
SUMMARY:“Dig In” to Gardening Fun with SOCO’s Virtual Kids Club Storytime!
DESCRIPTION:SOCO + The OC Mix's upcoming Virtual Kids Club is sure to help your kiddos grow! Join us online on Friday\, August 27 for a reading of the #1 New York Times bestseller\, We Are the Gardeners followed by a fun and simple craft tutorial. Written by HGTV legend Joanna Gaines and illustrated by Julianna Swaney\, this whimsical story teaches readers the importance of hard work\, familial love\, and perseverance. If you would like to follow along at home\, you may purchase a copy of the book here. After the reading\, learn how to make a craft that your little ones will total "dig" - Paper Plate Gardens! Check out the list of materials you'll need below:   Paper Plate   Paint (brown and sky blue)   Paintbrushes   Cardstock   Yarn (brown)   Hole Puncher   Tape   Scissors All past + current Kids Club videos can be found on the center's blog here. To receive updates about future events\, and stay up-to-date on SOCO news\, be sure to subscribe here. You can also follow the center on Instagram at @socoandtheocmix.
X-ALT-DESC;FMTTYPE=text/html:SOCO + The OC Mix&rsquo\;s upcoming Virtual Kids Club is sure to help your kiddos grow! Join us online on Friday\, August 27 for a reading of the #1 New York Times bestseller\, We Are the Gardeners followed by a fun and simple craft tutorial. Written by HGTV legend Joanna Gaines and illustrated by Julianna Swaney\, this whimsical story teaches readers the importance of hard work\, familial love\, and perseverance. If you would like to follow along at home\, you may purchase a copy of the book here. After the reading\, learn how to make a craft that your little ones will total &ldquo\;dig&rdquo\; - Paper Plate Gardens! Check out the list of materials you&rsquo\;ll need below: &bull\; Paper Plate &bull\; Paint (brown and sky blue) &bull\; Paintbrushes &bull\; Cardstock &bull\; Yarn (brown) &bull\; Hole Puncher &bull\; Tape &bull\; Scissors All past + current Kids Club videos can be found on the center&rsquo\;s blog here. To receive updates about future events\, and stay up-to-date on SOCO news\, be sure to subscribe here. You can also follow the center on Instagram at @socoandtheocmix.
LOCATION:Virtual/Online
UID:e.2866.12560
SEQUENCE:3
DTSTAMP:20260422T104604Z
URL:https://www.costamesachamber.com/events/details/dig-in-to-gardening-fun-with-soco-s-virtual-kids-club-storytime-12560
END:VEVENT

END:VCALENDAR
