BEGIN:VCALENDAR
VERSION:2.0
PRODID:-//ChamberMaster//Event Calendar 2.0//EN
METHOD:PUBLISH
X-PUBLISHED-TTL:P3D
REFRESH-INTERVAL:P3D
CALSCALE:GREGORIAN
BEGIN:VEVENT
DTSTART:20240918T220000Z
DTEND:20240919T020000Z
X-MICROSOFT-CDO-ALLDAYEVENT:FALSE
SUMMARY:Eco Expo - Costa Mesa Sanitary District
DESCRIPTION:Back by popular demand\, CMSD is hosting its 3rd annual Eco Expo! Customers will have a chance to "talk trash" with industry professionals and local eco-enthusiasts\, particularly about the upcoming transition to a three-cart waste collection system. This is a great opportunity to ask questions about the changes ahead! Additionally\, the event features useful recycling tips\, educational activities\, and lots of eco-friendly giveaways to help the whole family live more sustainably! \n\n\n\nRSVP today at www.cmsdca.gov/events.
X-ALT-DESC;FMTTYPE=text/html:<span style="color:rgb(68\, 68\, 68)\; font-family:noto serif\,serif\; font-size:15px">Back by popular demand\, CMSD is hosting its 3rd annual Eco Expo! Customers will have a chance to &quot\;talk trash&quot\; with industry professionals and local eco-enthusiasts\, particularly about the upcoming transition to a&nbsp\;</span><a href="https://www.cmsdca.gov/trash___recycling/curbside_collection/3_cart_system.php" style="box-sizing: border-box\; color: rgb(51\, 122\, 183)\; transition: background 0.3s\; font-family: &quot\;Noto Serif&quot\;\, serif\; font-size: 15px\;">three-cart waste collection system</a><span style="color:rgb(68\, 68\, 68)\; font-family:noto serif\,serif\; font-size:15px">. This is a great opportunity to ask questions about the changes ahead! Additionally\, the event features useful recycling tips\, educational activities\, and lots of eco-friendly giveaways to help the whole family live more sustainably!&nbsp\;<br />\n<br />\nRSVP today at <a href="http://www.cmsdca.gov/events">www.cmsdca.gov/events</a>.&nbsp\;</span>
LOCATION:Costa Mesa Sanitary District Headquarters 290 Paularino Avenue Costa Mesa\, CA 92626
UID:e.2866.14305
SEQUENCE:3
DTSTAMP:20260421T035938Z
URL:https://www.costamesachamber.com/events/details/eco-expo-costa-mesa-sanitary-district-14305
END:VEVENT

END:VCALENDAR
