BEGIN:VCALENDAR
VERSION:2.0
PRODID:-//ChamberMaster//Event Calendar 2.0//EN
METHOD:PUBLISH
X-PUBLISHED-TTL:P3D
REFRESH-INTERVAL:P3D
CALSCALE:GREGORIAN
BEGIN:VEVENT
DTSTART:20190928T150000Z
DTEND:20190928T230000Z
X-MICROSOFT-CDO-ALLDAYEVENT:FALSE
SUMMARY:Fall Community Garage Sale
DESCRIPTION:Our community garage sale is back! This event has limited spots available\, so don't delay in completing and submitting your application. Applications are due September 13.\n\nThis event will take place from 8am to 4pm. \n\nWe recommend you start with our FAQ sheet\, it will help answer a lot of questions you might have regarding eligibility and what to expect. \n\nShould you have additional questions\, please contact our main office at 714.557.0420.
X-ALT-DESC;FMTTYPE=text/html:<p>Our community garage sale is back! This event has limited spots available\, so don&#39\;t delay in completing and submitting your&nbsp\;<a href="https://drive.google.com/file/d/1Kqksbz_lv3AU1EgP8UGaEcNyccyCog_0/view?usp=sharing" style="box-sizing: border-box\; margin: 0px\; padding: 0px\; border: 0px\; outline: 0px\; background: transparent\; color: rgb(223\, 63\, 2)\; text-decoration-line: none\;" target="_blank">application</a>. Applications are due September 13.</p>\n\n<p>This event will take place from 8am to 4pm.&nbsp\;</p>\n\n<p>We recommend you start with our&nbsp\;<a href="https://drive.google.com/file/d/1McmPu6uK-493DrdpannV6he6kIvErWmk/view?usp=sharing" style="box-sizing: border-box\; margin: 0px\; padding: 0px\; border: 0px\; outline: 0px\; background: transparent\; color: rgb(223\, 63\, 2)\; text-decoration-line: none\;" target="_blank">FAQ sheet</a>\, it will help answer a lot of questions you might have regarding eligibility and what to expect.&nbsp\;</p>\n\n<p>Should you have additional questions\, please contact our main office at 714.557.0420.&nbsp\;</p>\n
LOCATION:Orange County Market Place 88 Fair Drive Costa Mesa\, CA 92626
UID:e.2866.9184
SEQUENCE:3
DTSTAMP:20260423T094031Z
URL:https://www.costamesachamber.com/events/details/fall-community-garage-sale-9184
END:VEVENT

END:VCALENDAR
