BEGIN:VCALENDAR
VERSION:2.0
PRODID:-//ChamberMaster//Event Calendar 2.0//EN
METHOD:PUBLISH
X-PUBLISHED-TTL:P3D
REFRESH-INTERVAL:P3D
CALSCALE:GREGORIAN
BEGIN:VEVENT
DTSTART;VALUE=DATE:20200728
DTEND;VALUE=DATE:20200801
TRANSP:TRANSPARENT
X-MICROSOFT-CDO-ALLDAYEVENT:TRUE
SUMMARY:Fish Around for Some Fun with SOCO + the OC Mix’s Virtual Kid’s Club
DESCRIPTION:Is your family fishing around for some afternoon fun? Be sure to reel in your kiddos on Tuesday\, July 28 to take part in SOCO + The OC Mix's newest Kids Club! Families are invited to watch a reading of "Goldfish on Vacation\," which tells a fun story about 3 children who take their goldfish on vacation at the community fountain   transforming their summer from ordinary to extraordinary. Then\, you are your kids will have the opportunity to create your very own fishbowl craft out of just a couple of paper plates! See below for additional materials needed:   2 paper plates   Scissors   Blue paint   Gold glitter glue   Paint brush   Glue gun or tacky glue Since we are unable to meet in person\, SOCO + The OC Mix's Kids Clubs events will be held online until further notice. All past and upcoming virtual events can be found on SOCO + The OC Mix's new blog here. To receive updates about future Kids Club events and new blog posts\, be sure to enter your email address online here. You can also follow us on Instagram at @socoandtheocmix.
X-ALT-DESC;FMTTYPE=text/html:Is your family fishing around for some afternoon fun? Be sure to reel in your kiddos on Tuesday\, July 28 to take part in SOCO + The OC Mix&rsquo\;s newest Kids Club! Families are invited to watch a reading of &ldquo\;Goldfish on Vacation\,&rdquo\; which tells a fun story about 3 children who take their goldfish on vacation at the community fountain &ndash\; transforming their summer from ordinary to extraordinary. Then\, you are your kids will have the opportunity to create your very own fishbowl craft out of just a couple of paper plates! See below for additional materials needed: &bull\; 2 paper plates &bull\; Scissors &bull\; Blue paint &bull\; Gold glitter glue &bull\; Paint brush &bull\; Glue gun or tacky glue Since we are unable to meet in person\, SOCO + The OC Mix&rsquo\;s Kids Clubs events will be held online until further notice. All past and upcoming virtual events can be found on SOCO + The OC Mix&rsquo\;s new blog here. To receive updates about future Kids Club events and new blog posts\, be sure to enter your email address online here. You can also follow us on Instagram at @socoandtheocmix.
LOCATION:3303-3323 HYLAND AVE\, COSTA MESA
UID:e.2866.12555
SEQUENCE:3
DTSTAMP:20260422T135511Z
URL:https://www.costamesachamber.com/events/details/fish-around-for-some-fun-with-soco-the-oc-mix-s-virtual-kid-s-club-12555
END:VEVENT

END:VCALENDAR
