BEGIN:VCALENDAR
VERSION:2.0
PRODID:-//ChamberMaster//Event Calendar 2.0//EN
METHOD:PUBLISH
X-PUBLISHED-TTL:P3D
REFRESH-INTERVAL:P3D
CALSCALE:GREGORIAN
BEGIN:VEVENT
DTSTART:20200314T000000Z
DTEND:20200314T030000Z
X-MICROSOFT-CDO-ALLDAYEVENT:FALSE
SUMMARY:FISH FRY FRIDAYS AT ST. JOHN THE BAPTIST CATHOLIC CHURCH\, Costa Mesa
DESCRIPTION:JOIN US at St. John the Baptist Catholic Church for our delicious "FISH FRY FRIDAYS" during Lent!\n\nOur Knights of Columbus Council 14581 will be cookin' up a delicious menu that includes:\n\n	Beer Battered Alaskan Cod\n	Fish Tacos\n	Grilled Shrimp Skewers\n	Clam Chowder\n	Kids Quesadilla\n	Fries and Coleslaw\n	Yummy Desserts
X-ALT-DESC;FMTTYPE=text/html:<span style="font-size:16px"><span style="color:#990000"><strong>JOIN US at St. John the Baptist Catholic Church for our delicious &quot\;FISH FRY FRIDAYS&quot\; during Lent!</strong></span></span><br />\n<span style="font-size:14px"><strong>Our Knights of Columbus Council 14581 will be cookin&#39\; up a delicious menu that includes:</strong></span>\n<ul>\n	<li><strong><span style="font-size:14px"><em>Beer Battered Alaskan Cod</em></span></strong></li>\n	<li><strong><span style="font-size:14px"><em>Fish Tacos</em></span></strong></li>\n	<li><strong><span style="font-size:14px"><em>Grilled Shrimp Skewers</em></span></strong></li>\n	<li><strong><span style="font-size:14px"><em>Clam Chowder</em></span></strong></li>\n	<li><strong><span style="font-size:14px"><em>Kids Quesadilla</em></span></strong></li>\n	<li><strong><span style="font-size:14px"><em>Fries and Coleslaw</em></span></strong></li>\n	<li><strong><span style="font-size:14px"><em>Yummy Desserts</em></span></strong></li>\n</ul>\n
LOCATION:St. John the Baptist Catholic Church and School 1021 Baker Street Costa Mesa\, CA 92626
UID:e.2866.12488
SEQUENCE:3
DTSTAMP:20260424T095400Z
URL:https://www.costamesachamber.com/events/details/fish-fry-fridays-at-st-john-the-baptist-catholic-church-costa-mesa-03-13-2020-12488
END:VEVENT

END:VCALENDAR
