BEGIN:VCALENDAR
VERSION:2.0
PRODID:-//ChamberMaster//Event Calendar 2.0//EN
METHOD:PUBLISH
X-PUBLISHED-TTL:P3D
REFRESH-INTERVAL:P3D
CALSCALE:GREGORIAN
BEGIN:VEVENT
DTSTART:20190919T180000Z
DTEND:20190929T050000Z
X-MICROSOFT-CDO-ALLDAYEVENT:FALSE
SUMMARY:Foodie Holidays & Football Specials at Tackle Box!
DESCRIPTION:Stop by Tackle Box\, OC's favorite coastal pub\, this September for some fun foodie holiday celebrations and touchdown specials all month long! On Thursday\, September 19\, guests are invited to celebrate National Cheeseburger Day at Tackle Box with a buy one\, get one free burger deal that's sure to excite your wallet and your taste buds. Then on Saturday\, September 28\, the restaurant will offer $5 flights of beer in honor of National Drink Beer Day! Regardless of which holiday you choose to celebrate (hopefully it's both!)\, Head Chef\, Co-Owner\, and Top Chef Alum Brian Huskey is excited to serve you and looks forward to providing you with a culinary experience you won't soon forget. The specials don't stop there! With football season upon us\, Tackle Box invites you to come watch the game and root your team on for the entirety of the season. Show your team spirit by wearing your favorite football jersey and you'll receive 50% off all beers and drinks - a deal worthy of an end zone celebration dance!
X-ALT-DESC;FMTTYPE=text/html:Stop by Tackle Box\, OC&rsquo\;s favorite coastal pub\, this September for some fun foodie holiday celebrations and touchdown specials all month long! On Thursday\, September 19\, guests are invited to celebrate National Cheeseburger Day at Tackle Box with a buy one\, get one free burger deal that&rsquo\;s sure to excite your wallet and your taste buds. Then on Saturday\, September 28\, the restaurant will offer $5 flights of beer in honor of National Drink Beer Day! Regardless of which holiday you choose to celebrate (hopefully it&rsquo\;s both!)\, Head Chef\, Co-Owner\, and Top Chef Alum Brian Huskey is excited to serve you and looks forward to providing you with a culinary experience you won&rsquo\;t soon forget. The specials don&rsquo\;t stop there! With football season upon us\, Tackle Box invites you to come watch the game and root your team on for the entirety of the season. Show your team spirit by wearing your favorite football jersey and you&rsquo\;ll receive 50% off all beers and drinks - a deal worthy of an end zone celebration dance!
LOCATION:Tackle Box 3321 Hyland Ave Ste E Costa Mesa\, CA 92626
UID:e.2866.11214
SEQUENCE:3
DTSTAMP:20260423T083633Z
URL:https://www.costamesachamber.com/events/details/foodie-holidays-football-specials-at-tackle-box-11214
END:VEVENT

END:VCALENDAR
