BEGIN:VCALENDAR
VERSION:2.0
PRODID:-//ChamberMaster//Event Calendar 2.0//EN
METHOD:PUBLISH
X-PUBLISHED-TTL:P3D
REFRESH-INTERVAL:P3D
CALSCALE:GREGORIAN
BEGIN:VEVENT
DTSTART;VALUE=DATE:20200819
DTEND;VALUE=DATE:20200820
TRANSP:TRANSPARENT
X-MICROSOFT-CDO-ALLDAYEVENT:TRUE
SUMMARY:Free Interactive Webinar offered by Collaborative Divorce Solutions of Orange County: What You Need to Know about ADult Children of Gray Divorce
DESCRIPTION:For the past three decades\, a silent revolution has been occurring and creating a seismic shift in the American family. The effects are being felt across three to four generations: more couples are divorcing later in life. Researchers have dubbed it "The Gray Divorce Revolution."\n\n \n\nAdult children are usually overlooked and forgotten when their parents divorce\, and they feel shocked\, tossed aside\, invalidated\, and alone. \n\n \n\nYou are invited to attend a free luncheon meeting and interactive webinar on August 19 hosted by Collaborative Divorce Solutions of Orange County\, a 501(c)(3) non-profit organization of divorce professionals dedicated to educating the public about peaceful\, out-of-court\, family-focused divorce options. Join us for the free webinar and meet divorce professionals who are peacemakers.\n\n \n\nYou will also receive a free report "What Your Clients Need to Know About Gray Divorce."
X-ALT-DESC;FMTTYPE=text/html:<span style="font-family:times new roman\,serif">For the past three decades\, a silent revolution has been occurring and creating a seismic shift in the American family. The effects are being felt across three to four generations: more couples are divorcing later in life. Researchers have dubbed it &quot\;The Gray Divorce Revolution.&quot\;</span><br />\n&nbsp\;<br />\n<span style="font-family:times new roman\,serif">Adult children are usually overlooked and forgotten when their parents divorce\, and they feel shocked\, tossed aside\, invalidated\, and alone.&nbsp\;</span><br />\n&nbsp\;<br />\n<span style="font-family:times new roman\,serif">You are invited to attend a free luncheon meeting and interactive webinar on August 19 hosted by Collaborative Divorce Solutions of Orange County\, a&nbsp\;</span><span style="color:#222222"><span style="font-family:times new roman\,serif">501(c)(3) non-profit organization of divorce professionals dedicated to educating the public about peaceful\, out-of-court\, family-focused divorce options. Join us for the free webinar and meet divorce professionals who are peacemakers.</span></span><br />\n&nbsp\;<br />\n<span style="font-family:times new roman\,serif">You will also receive a free report &quot\;What Your Clients Need to Know About Gray Divorce.&quot\;</span>
LOCATION:
UID:e.2866.12558
SEQUENCE:3
DTSTAMP:20260422T121418Z
URL:https://www.costamesachamber.com/events/details/free-interactive-webinar-offered-by-collaborative-divorce-solutions-of-orange-county-what-you-need-to-know-about-adult-children-of-gray-divorce-12558
END:VEVENT

END:VCALENDAR
