BEGIN:VCALENDAR
VERSION:2.0
PRODID:-//ChamberMaster//Event Calendar 2.0//EN
METHOD:PUBLISH
X-PUBLISHED-TTL:P3D
REFRESH-INTERVAL:P3D
CALSCALE:GREGORIAN
BEGIN:VEVENT
DTSTART:20230331T160000Z
DTEND:20230331T180000Z
X-MICROSOFT-CDO-ALLDAYEVENT:FALSE
SUMMARY:Free Morning Yoga
DESCRIPTION:Join us for Outdoor Morning Yoga with DJ Crisanto Santa Ana and Yoga Instructors Jill Cobb and RedJen!\n\n9:15-10am: Led by Jill Cobb\n\n10:15am-11am: Led by RedJen\n\nClick here to RSVP!
X-ALT-DESC;FMTTYPE=text/html:<p>Join us for Outdoor Morning Yoga with <a href="https://www.instagram.com/crisantosantaana/?hl=en">DJ Crisanto Santa Ana</a> and Yoga Instructors Jill Cobb and RedJen!</p>\n\n<p>9:15-10am: Led by Jill Cobb<br />\n10:15am-11am: Led by RedJen</p>\n\n<p>Click <a href="https://www.eventbrite.com/e/morning-yoga-at-the-camp-tickets-557040201237">here</a> to RSVP!</p>\n
LOCATION:The CAMP\, 2937 Bristol St\, Costa Mesa\, CA 92626
UID:e.2866.13748
SEQUENCE:3
DTSTAMP:20260422T090218Z
URL:https://www.costamesachamber.com/events/details/free-morning-yoga-13748
END:VEVENT

END:VCALENDAR
