BEGIN:VCALENDAR
VERSION:2.0
PRODID:-//ChamberMaster//Event Calendar 2.0//EN
METHOD:PUBLISH
X-PUBLISHED-TTL:P3D
REFRESH-INTERVAL:P3D
CALSCALE:GREGORIAN
BEGIN:VEVENT
DTSTART:20220611T150000Z
DTEND:20220611T190000Z
X-MICROSOFT-CDO-ALLDAYEVENT:FALSE
SUMMARY:Free Shredding and Compost Giveaway Event
DESCRIPTION:Costa Mesa Sanitary District\, the City of Costa Mesa\, and CR&R invite Costa Mesa residents to a free drive-thru Shredding and Compost Giveaway Event!\n\n	Residents can drop off up to 5 standard file boxes of paper per household.\n	2 bags of compost per household available while supplies last.\n	A limited amount of kitchen pails will be available to District customers upon request while supplies last.\n\nProof of Costa Mesa residency is required.
X-ALT-DESC;FMTTYPE=text/html:<span style="font-family:arial\,helvetica\,sans-serif"><span style="color:rgb(68\, 68\, 68)\; font-size:15px">Costa Mesa Sanitary District\, the City of Costa Mesa\, and CR&amp\;R invite Costa Mesa residents to a free drive-thru Shredding and Compost Giveaway Event!</span></span>\n<ul style="margin-left:10px">\n	<li><span style="font-family:arial\,helvetica\,sans-serif">Residents can drop off up to 5 standard file boxes of paper per household.</span></li>\n	<li><span style="font-family:arial\,helvetica\,sans-serif">2 bags of compost per household available while supplies last.</span></li>\n	<li><span style="font-family:arial\,helvetica\,sans-serif">A limited amount of&nbsp\;<a href="https://cms9.revize.com/revize/cmsd/trash___recycling/curbside_collection/organics_recycling_program/kitchen_pails.php" style="box-sizing: border-box\; background-color: transparent\; color: rgb(51\, 122\, 183)\; transition: background 0.3s ease 0s\;">kitchen pails</a>&nbsp\;will be available to District customers upon request while supplies last.</span></li>\n</ul>\n<span style="font-family:arial\,helvetica\,sans-serif"><span style="color:rgb(68\, 68\, 68)\; font-size:15px">Proof of Costa Mesa residency is required.</span></span>
LOCATION:Estancia High School - 2323 Placentia Ave\, Costa Mesa\, CA 92627
UID:e.2866.13358
SEQUENCE:3
DTSTAMP:20260424T094853Z
URL:https://www.costamesachamber.com/events/details/free-shredding-and-compost-giveaway-event-13358
END:VEVENT

END:VCALENDAR
