BEGIN:VCALENDAR
VERSION:2.0
PRODID:-//ChamberMaster//Event Calendar 2.0//EN
METHOD:PUBLISH
X-PUBLISHED-TTL:P3D
REFRESH-INTERVAL:P3D
CALSCALE:GREGORIAN
BEGIN:VEVENT
DTSTART:20191117T170000Z
DTEND:20191117T180000Z
X-MICROSOFT-CDO-ALLDAYEVENT:FALSE
SUMMARY:Free Yoga with LXRYOGA at SOCO + The OC Mix!
DESCRIPTION:Inhale love and exhale gratitude with LXRYOGA this Thanksgiving season at SOCO + The OC Mix! On Sunday November 17 from 9:00 a.m. to 10:00 a.m.\, LXRYOGA invites you to give your body the gift of renewal with a complimentary yoga class taking place at SOCO + The OC Mix's newly renovated breezeway between BoConcept and Kestan's old space. While the event is free\, donations will be accepted to benefit nonprofit organization Feeding America. To register for this rejuvenating event\, please visit: https://www.eventbrite.com/e/80786022167 and note that check-in begins at 8:45 a.m. Feeding America is the nation's largest domestic hunger-relief organization working to connect people with food and end hunger. Every dollar given can provide at least 10 meals to children and families in need and all donations will go directly towards Feeding America. For more information on Feeding America\, please visit: https://www.feedingamerica.org/
X-ALT-DESC;FMTTYPE=text/html:Inhale love and exhale gratitude with LXRYOGA this Thanksgiving season at SOCO + The OC Mix! On Sunday November 17 from 9:00 a.m. to 10:00 a.m.\, LXRYOGA invites you to give your body the gift of renewal with a complimentary yoga class taking place at SOCO + The OC Mix&rsquo\;s newly renovated breezeway between BoConcept and Kestan&rsquo\;s old space. While the event is free\, donations will be accepted to benefit nonprofit organization Feeding America. To register for this rejuvenating event\, please visit: https://www.eventbrite.com/e/80786022167 and note that check-in begins at 8:45 a.m. Feeding America is the nation&rsquo\;s largest domestic hunger-relief organization working to connect people with food and end hunger. Every dollar given can provide at least 10 meals to children and families in need and all donations will go directly towards Feeding America. For more information on Feeding America\, please visit: https://www.feedingamerica.org/
LOCATION:3313 Hyland Ave. Costa Mesa\, CA 92626
UID:e.2866.12188
SEQUENCE:3
DTSTAMP:20260423T033220Z
URL:https://www.costamesachamber.com/events/details/free-yoga-with-lxryoga-at-soco-the-oc-mix-12188
END:VEVENT

END:VCALENDAR
