BEGIN:VCALENDAR
VERSION:2.0
PRODID:-//ChamberMaster//Event Calendar 2.0//EN
METHOD:PUBLISH
X-PUBLISHED-TTL:P3D
REFRESH-INTERVAL:P3D
CALSCALE:GREGORIAN
BEGIN:VEVENT
DTSTART:20191027T010000Z
DTEND:20191027T050000Z
X-MICROSOFT-CDO-ALLDAYEVENT:FALSE
SUMMARY:Friendly Center Annual Gala
DESCRIPTION:Celebrate Friendly Center's 95th Anniversary with a performance by magician Greg VanHolsbeck\, then hear how the lives of children and families have been transformed through Friendly Center Programs. Live auction items include: The Magic Castle Package\, Fox Island Getaway\, Yamaha Motocross Behind the Scenes\, Firefighter BBQ Event\, Anaheim Ducks Luxury Suite. For additional inforamtion\, visit friendlycenter.org or call (714) 769-8869.
X-ALT-DESC;FMTTYPE=text/html:Celebrate Friendly Center&#39\;s 95th Anniversary with a performance by magician Greg VanHolsbeck\, then hear how the lives of children and families have been transformed through Friendly Center Programs. Live auction items include: The Magic Castle Package\, Fox Island Getaway\, Yamaha Motocross Behind the Scenes\, Firefighter BBQ Event\, Anaheim Ducks Luxury Suite. For additional inforamtion\, visit friendlycenter.org or call (714) 769-8869.
LOCATION:Fete the Venue 3101 Red Hill Ave\, Costa Mesa\, CA 92626
UID:e.2866.11315
SEQUENCE:3
DTSTAMP:20260423T080539Z
URL:https://www.costamesachamber.com/events/details/friendly-center-annual-gala-11315
END:VEVENT

END:VCALENDAR
