BEGIN:VCALENDAR
VERSION:2.0
PRODID:-//ChamberMaster//Event Calendar 2.0//EN
METHOD:PUBLISH
X-PUBLISHED-TTL:P3D
REFRESH-INTERVAL:P3D
CALSCALE:GREGORIAN
BEGIN:VEVENT
DTSTART:20211118T010000Z
DTEND:20211118T033000Z
X-MICROSOFT-CDO-ALLDAYEVENT:FALSE
SUMMARY:???? Friendsgiving Day Mixer! ????
DESCRIPTION:Hi Friends!\n\n\n\nWe are starting the season to celebrate and be thankful for our friends\, our health and other blessings we have in our lives. For many of us\, family is far away... But friends are close by.\n\n\n\n?? First thing's first... Please bring at least ONE canned food or non-perishable food item to donate to a local Veteran House. These food items will go a long way to help ensure displaced Veterans have a meal this Thanksgiving. Can't say enough about how much they deserve that.\n\n\n\n?? We have an incredible partner helping us out this year\, Restoration Pros\, in Huntington Beach. They are being very generous this year and allowing us to use their warehouse space for this event. Special thanks to Aerielle with Restoration Pros for making this happen and Shaun for coordinating!\n\n\n\n?? Ok\, onto the Food & Beer: Shaun and I will provide the turkey\, gravy\, and casserole. Yes\, the turkey will be provided. Snacks will be provided as well\, but feel free to bring some food items if you'd like. As for beer\, I'll have a limited selection of beer on-hand. We ask that you please bring your own beer or wine. Yes\, wine is encouraged.\n\n\n\nWhat to Bring:\n\n\n\n?? 1 Canned or Non-perishable food item for donation to a local Veteran House.\n\n\n\n?? ??BYOB-Please drink responsibly.\n\n\n\n?? A Friendsgiving spirit!! (business cards as well)
X-ALT-DESC;FMTTYPE=text/html:<span style="background-color:rgb(246\, 247\, 248)\; color:rgb(33\, 33\, 33)\; font-family:graphik meetup\,-apple-system\,blinkmacsystemfont\,roboto\,helvetica\,arial\,sans-serif\; font-size:16px">Hi Friends!</span><br />\n<br />\n<span style="background-color:rgb(246\, 247\, 248)\; color:rgb(33\, 33\, 33)\; font-family:graphik meetup\,-apple-system\,blinkmacsystemfont\,roboto\,helvetica\,arial\,sans-serif\; font-size:16px">We are starting the season to celebrate and be thankful for our friends\, our health and other blessings we have in our lives. For many of us\, family is far away... But friends are close by.</span><br />\n<br />\n<span style="background-color:rgb(246\, 247\, 248)\; color:rgb(33\, 33\, 33)\; font-family:graphik meetup\,-apple-system\,blinkmacsystemfont\,roboto\,helvetica\,arial\,sans-serif\; font-size:16px">?? First thing&#39\;s first... Please bring at least ONE canned food or non-perishable food item to donate to a local Veteran House. These food items will go a long way to help ensure displaced Veterans have a meal this Thanksgiving. Can&#39\;t say enough about how much they deserve that.</span><br />\n<br />\n<span style="background-color:rgb(246\, 247\, 248)\; color:rgb(33\, 33\, 33)\; font-family:graphik meetup\,-apple-system\,blinkmacsystemfont\,roboto\,helvetica\,arial\,sans-serif\; font-size:16px">?? We have an incredible partner helping us out this year\, Restoration Pros\, in Huntington Beach. They are being very generous this year and allowing us to use their warehouse space for this event. Special thanks to Aerielle with Restoration Pros for making this happen and Shaun for coordinating!</span><br />\n<br />\n<span style="background-color:rgb(246\, 247\, 248)\; color:rgb(33\, 33\, 33)\; font-family:graphik meetup\,-apple-system\,blinkmacsystemfont\,roboto\,helvetica\,arial\,sans-serif\; font-size:16px">?? Ok\, onto the Food &amp\; Beer: Shaun and I will provide the turkey\, gravy\, and casserole. Yes\, the turkey will be provided. Snacks will be provided as well\, but feel free to bring some food items if you&#39\;d like. As for beer\, I&#39\;ll have a limited selection of beer on-hand. We ask that you please bring your own beer or wine. Yes\, wine is encouraged.</span><br />\n<br />\n<span style="background-color:rgb(246\, 247\, 248)\; color:rgb(33\, 33\, 33)\; font-family:graphik meetup\,-apple-system\,blinkmacsystemfont\,roboto\,helvetica\,arial\,sans-serif\; font-size:16px">What to Bring:</span><br />\n<br />\n<span style="background-color:rgb(246\, 247\, 248)\; color:rgb(33\, 33\, 33)\; font-family:graphik meetup\,-apple-system\,blinkmacsystemfont\,roboto\,helvetica\,arial\,sans-serif\; font-size:16px">?? 1 Canned or Non-perishable food item for donation to a local Veteran House.</span><br />\n<br />\n<span style="background-color:rgb(246\, 247\, 248)\; color:rgb(33\, 33\, 33)\; font-family:graphik meetup\,-apple-system\,blinkmacsystemfont\,roboto\,helvetica\,arial\,sans-serif\; font-size:16px">?? ??BYOB-Please drink responsibly.</span><br />\n<br />\n<span style="background-color:rgb(246\, 247\, 248)\; color:rgb(33\, 33\, 33)\; font-family:graphik meetup\,-apple-system\,blinkmacsystemfont\,roboto\,helvetica\,arial\,sans-serif\; font-size:16px">?? A Friendsgiving spirit!! (business cards as well)</span>
LOCATION:Resto Pros 5242 W McFadden Ave Huntington Beach\, CA
UID:e.2866.12912
SEQUENCE:3
DTSTAMP:20260424T211937Z
URL:https://www.costamesachamber.com/events/details/friendsgiving-day-mixer-12912
END:VEVENT

END:VCALENDAR
