BEGIN:VCALENDAR
VERSION:2.0
PRODID:-//ChamberMaster//Event Calendar 2.0//EN
METHOD:PUBLISH
X-PUBLISHED-TTL:P3D
REFRESH-INTERVAL:P3D
CALSCALE:GREGORIAN
BEGIN:VEVENT
DTSTART;VALUE=DATE:20191101
DTEND;VALUE=DATE:20191201
TRANSP:TRANSPARENT
X-MICROSOFT-CDO-ALLDAYEVENT:TRUE
SUMMARY:Get in the Spirit of Giving This November with Toast Kitchen + Bakery
DESCRIPTION:Thanksgiving is right around the corner and Toast Kitchen + Bakery is giving you a delicious way to get in the spirit of giving this season! Throughout the entire month of November\, Toast will donate 10% of all proceeds to Fresh Beginnings Ministries\, giving you the chance to enjoy one of Orange County's favorite dining spots while supporting the community. Stop by for breakfast\, brunch\, lunch\, dinner and dessert every day of the week (closed on Mondays) to support this fantastic cause. Fresh Beginnings Ministries is a faith-based organization that partners with churches of seven different denominations to provide food distribution\, resources\, and support for those in need. Fresh Beginnings Ministries offers a variety of services for families\, the homeless\, veterans\, and seniors. Dedicated to serving the community\, Fresh Beginnings Ministries strives to make a difference through a foundation of faith and forgiveness. Toast Kitchen + Bakery donates 10% of its proceeds each month to a different nonprofit organization\, so be sure to stay tuned for upcoming partnerships by following Toast on Instagram (@toastmesa). Plus\, for more information on Toast Kitchen + Bakery\, please visit https://toastkitchenbakery.com and for more details on Fresh Beginnings Ministry\, please visit the organization's website at https://freshbeginningsministries.com/
X-ALT-DESC;FMTTYPE=text/html:Thanksgiving is right around the corner and Toast Kitchen + Bakery is giving you a delicious way to get in the spirit of giving this season! Throughout the entire month of November\, Toast will donate 10% of all proceeds to Fresh Beginnings Ministries\, giving you the chance to enjoy one of Orange County&rsquo\;s favorite dining spots while supporting the community. Stop by for breakfast\, brunch\, lunch\, dinner and dessert every day of the week (closed on Mondays) to support this fantastic cause. Fresh Beginnings Ministries is a faith-based organization that partners with churches of seven different denominations to provide food distribution\, resources\, and support for those in need. Fresh Beginnings Ministries offers a variety of services for families\, the homeless\, veterans\, and seniors. Dedicated to serving the community\, Fresh Beginnings Ministries strives to make a difference through a foundation of faith and forgiveness. Toast Kitchen + Bakery donates 10% of its proceeds each month to a different nonprofit organization\, so be sure to stay tuned for upcoming partnerships by following Toast on Instagram (@toastmesa). Plus\, for more information on Toast Kitchen + Bakery\, please visit https://toastkitchenbakery.com and for more details on Fresh Beginnings Ministry\, please visit the organization&rsquo\;s website at https://freshbeginningsministries.com/
LOCATION:Toast Kitchen + Bakery 1767 Newport Blvd\, Costa Mesa\, CA 92627
UID:e.2866.12059
SEQUENCE:3
DTSTAMP:20260423T064748Z
URL:https://www.costamesachamber.com/events/details/get-in-the-spirit-of-giving-this-november-with-toast-kitchen-bakery-12059
END:VEVENT

END:VCALENDAR
