BEGIN:VCALENDAR
VERSION:2.0
PRODID:-//ChamberMaster//Event Calendar 2.0//EN
METHOD:PUBLISH
X-PUBLISHED-TTL:P3D
REFRESH-INTERVAL:P3D
CALSCALE:GREGORIAN
BEGIN:VEVENT
DTSTART:20211007T003000Z
DTEND:20211112T020000Z
X-MICROSOFT-CDO-ALLDAYEVENT:FALSE
SUMMARY:Girls Inc. of Orange County Patio Parties
DESCRIPTION:In celebration of strong\, smart\, and bold girls\, Girls Inc. of Orange County invites all to learn more about the nonprofit's important programming through Patio Parties! From October to November\, Girls Inc. will be hosting a series of five outdoor Patio Parties across Orange County hosted by the organization's board members and donor advocates in their homes or clubs. Each patio party will focus on five key programs of the nonprofit: Girls Inc.'s College Bound program\, Literacy Lab\, Intro to Girls Inc. STEM Program\, and Social\, Emotional Learning program. These events offer an excellent opportunity to mingle\, learn\, and raise money for Orange County girls! Guests will enjoy light refreshments\, drinks\, get an inside peek at Girls Inc.'s programs\, and hear directly from the girls served by the organization. Each exclusive event will hold no more than 30-40 guests. For more information on Girls Inc.'s Patio Parties and/or to RSVP\, please visit https://www.girlsinc-oc.org/support/upcoming-events/patio-parties/ . Title: Girls Inc. of Orange County Patio Parties Dates:   Wednesday\, October 6\, 2021   Thursday\, October 21\, 2021   Wednesday November 3\, 2021   Tuesday\, November 9\, 2021   Thursday\, November 11th 2021 Times:   5:30 p.m.   XX (October 6\, 2021 only)   6:00 p.m.   XX (For all other Patio Parties) Location:   Shady Canyon Golf Club (October 6\, 2021)   Private home in Irvine (October 21\, 2021)   Private home in Costa Mesa (November 3\, 2021)   Private home in Huntington Beach (November 9\, 2021)   Private home in Santa Ana (November 11\, 2021) RSVP: Contact Ann Levy at alevy@girlsinc-oc.org Website: https://www.girlsinc-oc.org/support/upcoming-events/patio- parties/
X-ALT-DESC;FMTTYPE=text/html:In celebration of strong\, smart\, and bold girls\, Girls Inc. of Orange County invites all to learn more about the nonprofit&rsquo\;s important programming through Patio Parties! From October to November\, Girls Inc. will be hosting a series of five outdoor Patio Parties across Orange County hosted by the organization&rsquo\;s board members and donor advocates in their homes or clubs. Each patio party will focus on five key programs of the nonprofit: Girls Inc.&rsquo\;s College Bound program\, Literacy Lab\, Intro to Girls Inc. STEM Program\, and Social\, Emotional Learning program. These events offer an excellent opportunity to mingle\, learn\, and raise money for Orange County girls! Guests will enjoy light refreshments\, drinks\, get an inside peek at Girls Inc.&rsquo\;s programs\, and hear directly from the girls served by the organization. Each exclusive event will hold no more than 30-40 guests. For more information on Girls Inc.&rsquo\;s Patio Parties and/or to RSVP\, please visit https://www.girlsinc-oc.org/support/upcoming-events/patio-parties/ . Title: Girls Inc. of Orange County Patio Parties Dates: &middot\; Wednesday\, October 6\, 2021 &middot\; Thursday\, October 21\, 2021 &middot\; Wednesday November 3\, 2021 &middot\; Tuesday\, November 9\, 2021 &middot\; Thursday\, November 11th 2021 Times: &middot\; 5:30 p.m. &ndash\; XX (October 6\, 2021 only) &middot\; 6:00 p.m. &ndash\; XX (For all other Patio Parties) Location: &middot\; Shady Canyon Golf Club (October 6\, 2021) &middot\; Private home in Irvine (October 21\, 2021) &middot\; Private home in Costa Mesa (November 3\, 2021) &middot\; Private home in Huntington Beach (November 9\, 2021) &middot\; Private home in Santa Ana (November 11\, 2021) RSVP: Contact Ann Levy at alevy@girlsinc-oc.org Website: https://www.girlsinc-oc.org/support/upcoming-events/patio- parties/
LOCATION:Various Locations
UID:e.2866.12888
SEQUENCE:3
DTSTAMP:20260421T120304Z
URL:https://www.costamesachamber.com/events/details/girls-inc-of-orange-county-patio-parties-12888
END:VEVENT

END:VCALENDAR
