BEGIN:VCALENDAR
VERSION:2.0
PRODID:-//ChamberMaster//Event Calendar 2.0//EN
METHOD:PUBLISH
X-PUBLISHED-TTL:P3D
REFRESH-INTERVAL:P3D
CALSCALE:GREGORIAN
BEGIN:VEVENT
DTSTART:20230317T170000Z
DTEND:20230317T220000Z
X-MICROSOFT-CDO-ALLDAYEVENT:FALSE
SUMMARY:Go Green Mother Earth Market
DESCRIPTION:Join us at The CAMP for an eco-friendly market co-hosted by ECO NOW\, accompanied by live Celtic music by two different music groups\, a clothing swap\, and a workshop!\n\nClick here for more info.
X-ALT-DESC;FMTTYPE=text/html:<p>Join us at The CAMP for an eco-friendly market co-hosted by ECO NOW\, accompanied by live Celtic music by two different music groups\, a clothing swap\, and a workshop!</p>\n\n<p>Click <a href="https://www.eventbrite.com/e/mother-earth-market-go-green-tickets-567203981377" style="background-color: transparent\; color: rgb(95\, 147\, 67)\; text-decoration-line: none\; padding-bottom: 0.05em\; border-bottom: 1px solid rgba(95\, 147\, 67\, 0.3)\; transition: border-color 0.15s ease-out 0s\, color 0.15s ease-out 0s\; overflow-wrap: break-word\;">here</a> for more info.</p>\n
LOCATION:The CAMP\, 2937 Bristol St\, Costa Mesa CA 92626
UID:e.2866.13745
SEQUENCE:3
DTSTAMP:20260422T090636Z
URL:https://www.costamesachamber.com/events/details/go-green-mother-earth-market-13745
END:VEVENT

END:VCALENDAR
