BEGIN:VCALENDAR
VERSION:2.0
PRODID:-//ChamberMaster//Event Calendar 2.0//EN
METHOD:PUBLISH
X-PUBLISHED-TTL:P3D
REFRESH-INTERVAL:P3D
CALSCALE:GREGORIAN
BEGIN:VEVENT
DTSTART:20191128T180000Z
DTEND:20191129T010000Z
X-MICROSOFT-CDO-ALLDAYEVENT:FALSE
SUMMARY:Go Green This Holiday Season at Molly Wood Garden Design
DESCRIPTION:Join Molly Wood Garden Design for the garden shop's Holiday Kick-Off event and Harvest Tabletop Workshop on Friday\, November 8! Guests are invited to visit the store as this year's holiday stock arrives and watch as the room is transformed into the ultimate holiday headquarters for a stylish holiday season. Find decorations that encompass clean lines and natural elements like garlands\, lights\, wooden trees\, and fresh greens that will have your home feeling festive all season long. Looking for a little guidance? Stop by at 1:00 p.m. when designer and style-maker Molly Wood will be teaching a FREE and open to the public Harvest Tabletop Workshop where you'll learn how to create stylish tablescapes in your home that promise to last throughout the holiday season. Limited space is available\, so be sure to call the shop at (949) 548-1611 or sign up online to reserve your spot: https://shopmollywood.com/collections/reserve-a-seat For more information on Molly Wood Garden Design and for indoor + outdoor home inspiration\, please visit: http://mollywoodgardendesign.com/
X-ALT-DESC;FMTTYPE=text/html:Join Molly Wood Garden Design for the garden shop&rsquo\;s Holiday Kick-Off event and Harvest Tabletop Workshop on Friday\, November 8! Guests are invited to visit the store as this year&rsquo\;s holiday stock arrives and watch as the room is transformed into the ultimate holiday headquarters for a stylish holiday season. Find decorations that encompass clean lines and natural elements like garlands\, lights\, wooden trees\, and fresh greens that will have your home feeling festive all season long. Looking for a little guidance? Stop by at 1:00 p.m. when designer and style-maker Molly Wood will be teaching a FREE and open to the public Harvest Tabletop Workshop where you&rsquo\;ll learn how to create stylish tablescapes in your home that promise to last throughout the holiday season. Limited space is available\, so be sure to call the shop at (949) 548-1611 or sign up online to reserve your spot: https://shopmollywood.com/collections/reserve-a-seat For more information on Molly Wood Garden Design and for indoor + outdoor home inspiration\, please visit: http://mollywoodgardendesign.com/
LOCATION:1660 Orange Ave. Costa Mesa\, CA 92627
UID:e.2866.12173
SEQUENCE:3
DTSTAMP:20260423T052451Z
URL:https://www.costamesachamber.com/events/details/go-green-this-holiday-season-at-molly-wood-garden-design-12173
END:VEVENT

END:VCALENDAR
