BEGIN:VCALENDAR
VERSION:2.0
PRODID:-//ChamberMaster//Event Calendar 2.0//EN
METHOD:PUBLISH
X-PUBLISHED-TTL:P3D
REFRESH-INTERVAL:P3D
CALSCALE:GREGORIAN
BEGIN:VEVENT
DTSTART:20240928T160000Z
DTEND:20240928T170000Z
X-MICROSOFT-CDO-ALLDAYEVENT:FALSE
SUMMARY:Group Dog Training Classes starting 8/24/24
DESCRIPTION:The Ultimate Dog Training Program\n\n6 Week Group Dog Training Classes in a Costa Mesa Facility for Pups At Lease 4 Months Old\n\nStart date:  Saturday\, August 24\, 2024\n\n \nWhether you struggle on your walks with your dog\n\n\n\n. . . or they not come back to you consistently when you call them\n\n\n\n. . . or jumps too enthusiastically on you and your guests\n\n\n\nLet's focus on changing these behaviors during the group classes so you can\n \n\n-- witness your dog listening when you ask them to sit or drop-it\n\n \n\n-- enjoy your walks without being dragged \n \n\n-- let out a sigh of relief when your dog waits at the front door instead of running out  \n\n\n\n\n\n* no class on Sat\, Aug 31st (Labor Day Weekend)
X-ALT-DESC;FMTTYPE=text/html:<span style="font-size:22px"><strong>The Ultimate Dog Training Program</strong></span><br />\n<span style="font-size:16px">6 Week Group Dog Training Classes in a Costa Mesa Facility for Pups At Lease 4 Months Old<br />\nStart date:&nbsp\; Saturday\, August 24\, 2024</span><br />\n&nbsp\;\n<div>Whether you&nbsp\;<strong>struggle on your walks with your dog</strong><br />\n<br />\n. . . or <strong>they&nbsp\;not come back</strong>&nbsp\;to you consistently when you call them<br />\n<br />\n. . . or&nbsp\;<strong>jumps too enthusiasticall</strong>y on you and your guests<br />\n<br />\n<strong><em>Let&rsquo\;s focus on changing these behaviors during the group classes so you can</em></strong></div>\n&nbsp\;\n\n<div>-- witness your&nbsp\;<strong>dog listening</strong>&nbsp\;when you ask them to sit or drop-it</div>\n\n<div>&nbsp\;</div>\n\n<div>--&nbsp\;<strong>enjoy your walks</strong>&nbsp\;without being dragged&nbsp\;</div>\n&nbsp\;\n\n<div>--&nbsp\;<strong>let out a sigh of relief&nbsp\;</strong>when your dog waits at the front door instead of running out&nbsp\;&nbsp\;<br />\n<br />\n<br />\n* no class on Sat\, Aug 31st (Labor Day Weekend)</div>\n
LOCATION:449 W. Bay Street Costa Mesa\, CA 92627
UID:e.2866.14303
SEQUENCE:3
DTSTAMP:20260421T040047Z
URL:https://www.costamesachamber.com/events/details/group-dog-training-classes-starting-8-24-24-09-28-2024-14303
END:VEVENT

END:VCALENDAR
