BEGIN:VCALENDAR
VERSION:2.0
PRODID:-//ChamberMaster//Event Calendar 2.0//EN
METHOD:PUBLISH
X-PUBLISHED-TTL:P3D
REFRESH-INTERVAL:P3D
CALSCALE:GREGORIAN
BEGIN:VEVENT
DTSTART:20191102T190000Z
DTEND:20191102T230000Z
X-MICROSOFT-CDO-ALLDAYEVENT:FALSE
SUMMARY:Halecrest Park Annual Chili Cook Off
DESCRIPTION:Halecrest Park Annual Cook Off is a great time for all.\n\nFeaturing Live music from the band Dead End Road and chili sampling. We have a beautiful 5 acre park with a playground. This is a true family fun event.\n\nAdmission is free
X-ALT-DESC;FMTTYPE=text/html:Halecrest Park Annual Cook Off is a great time for all.<br />\nFeaturing Live music from the band <u>Dead End Road </u>and chili sampling. We have a beautiful 5 acre park with a playground. This is a true family fun event.<br />\nAdmission is free
LOCATION:3107 Killybrooke Lane\, Costa Mesa CA 92626 Office phone : 714-557-7234
UID:e.2866.11636
SEQUENCE:3
DTSTAMP:20260423T032533Z
URL:https://www.costamesachamber.com/events/details/halecrest-park-annual-chili-cook-off-11636
END:VEVENT

END:VCALENDAR
