BEGIN:VCALENDAR
VERSION:2.0
PRODID:-//ChamberMaster//Event Calendar 2.0//EN
METHOD:PUBLISH
X-PUBLISHED-TTL:P3D
REFRESH-INTERVAL:P3D
CALSCALE:GREGORIAN
BEGIN:VEVENT
DTSTART:20201024T170000Z
DTEND:20201024T230000Z
X-MICROSOFT-CDO-ALLDAYEVENT:FALSE
SUMMARY:Halecrest Park Fall Crafters Boutique
DESCRIPTION:Halecrest Park Fall Boutique\n\nLocal crafters and small business owners\, will be selling their items.\n\nWe will have all COVID safety precautions in place.\n\nFall and Christmas items along with crystal jewelry\, homemade hot sauce and cookies.\n\nFree parking\n\nFree admission
X-ALT-DESC;FMTTYPE=text/html:Halecrest Park Fall Boutique<br />\nLocal crafters and small business owners\, will be selling their items.<br />\nWe will have all COVID safety precautions in place.<br />\nFall and Christmas items along with crystal jewelry\, homemade hot sauce and cookies.<br />\nFree parking<br />\nFree admission
LOCATION:Halecrest Swim and Tennis Club 3107 Killybrooke Lane Costa Mesa Ca 92626
UID:e.2866.12566
SEQUENCE:3
DTSTAMP:20260422T084441Z
URL:https://www.costamesachamber.com/events/details/halecrest-park-fall-crafters-boutique-12566
END:VEVENT

END:VCALENDAR
