BEGIN:VCALENDAR
VERSION:2.0
PRODID:-//ChamberMaster//Event Calendar 2.0//EN
METHOD:PUBLISH
X-PUBLISHED-TTL:P3D
REFRESH-INTERVAL:P3D
CALSCALE:GREGORIAN
BEGIN:VEVENT
DTSTART;VALUE=DATE:20201026
DTEND;VALUE=DATE:20201027
TRANSP:TRANSPARENT
X-MICROSOFT-CDO-ALLDAYEVENT:TRUE
SUMMARY:Harbor Mesa Lions No Show FUndraiser
DESCRIPTION:Harbor Mesa Lions Club No show Fundraiser.  Great prizes for drawing.  $35 per ticket for each drawing entrance.\n\nSome great prizes are as follows:  A hog pak from Newport Rib Company\,  a foursome with golf cart at Costa Mesa Golf and Country Club\, $150 gift certificate to South Coast Plaza and many more.
X-ALT-DESC;FMTTYPE=text/html:Harbor Mesa Lions Club No show Fundraiser.&nbsp\; Great prizes for drawing.&nbsp\; $35 per ticket for each drawing entrance.<br />\nSome great prizes are as follows:&nbsp\; A hog pak from Newport Rib Company\,&nbsp\; a foursome with golf cart at Costa Mesa Golf and Country Club\, $150 gift certificate to South Coast Plaza and many more.
LOCATION:None
UID:e.2866.12572
SEQUENCE:3
DTSTAMP:20260422T111510Z
URL:https://www.costamesachamber.com/events/details/harbor-mesa-lions-no-show-fundraiser-10-26-2020-12572
END:VEVENT

END:VCALENDAR
