BEGIN:VCALENDAR
VERSION:2.0
PRODID:-//ChamberMaster//Event Calendar 2.0//EN
METHOD:PUBLISH
X-PUBLISHED-TTL:P3D
REFRESH-INTERVAL:P3D
CALSCALE:GREGORIAN
BEGIN:VEVENT
DTSTART:20211003T170000Z
DTEND:20211003T190000Z
X-MICROSOFT-CDO-ALLDAYEVENT:FALSE
SUMMARY:It's A Fuuurry Spooky Day
DESCRIPTION:Happy Howl-oween to all pet lovers and four-legged friends! It's that time of year again for hot chocolate\, scarecrows\, pumpkins\, and harvest moons. In partnership with the Best Friends Animal Society\, Paul Mitchell The School presents "It's A FUUURRY Spooky Day" on October 3\, from 10:00 a.m. - 12:00 p.m. Join us by dressing up in your spookiest gear and compete for a variety of awards including best pet costume and favorite pet and owner matching costumes! Trick or treat yo' self with timeless pet portraits\, adoptions\, and a convenient pet mobile wash. Don't forget to grab a bite at the BBQ\, and to stop by at one of the local vendor booths. Raffle tickets and other exciting festivities will be taking place to ring in the fall season\, so don't miss out! Admission to this hair-raising fashion show is only $10 for pets or $20 for pet and owner costume duos. Guests can pay via cash\, credit/debit card and Venmo with the opportunity to pay in advance or at the door. Join in on the fun in the parking lot of the Paul Mitchell School located inside South Coast Collection design center at 3309 Hyland Ave Suite J\, Costa Mesa. For any questions regarding vendor participation call Tonya at 714-546-8786 EXT. 1411. We hope to see you there!
X-ALT-DESC;FMTTYPE=text/html:Happy Howl-oween to all pet lovers and four-legged friends! It&#39\;s that time of year again for hot chocolate\, scarecrows\, pumpkins\, and harvest moons. In partnership with the Best Friends Animal Society\, Paul Mitchell The School presents &quot\;It&#39\;s A FUUURRY Spooky Day&quot\; on October 3\, from 10:00 a.m. - 12:00 p.m. Join us by dressing up in your spookiest gear and compete for a variety of awards including best pet costume and favorite pet and owner matching costumes! Trick or treat yo&#39\; self with timeless pet portraits\, adoptions\, and a convenient pet mobile wash. Don&#39\;t forget to grab a bite at the BBQ\, and to stop by at one of the local vendor booths. Raffle tickets and other exciting festivities will be taking place to ring in the fall season\, so don&#39\;t miss out! Admission to this hair-raising fashion show is only $10 for pets or $20 for pet and owner costume duos. Guests can pay via cash\, credit/debit card and Venmo with the opportunity to pay in advance or at the door. Join in on the fun in the parking lot of the Paul Mitchell School located inside South Coast Collection design center at 3309 Hyland Ave Suite J\, Costa Mesa. For any questions regarding vendor participation call Tonya at 714-546-8786 EXT. 1411. We hope to see you there!
LOCATION:3309 Hyland Ave Costa Mesa\, CA
UID:e.2866.12883
SEQUENCE:3
DTSTAMP:20260424T230010Z
URL:https://www.costamesachamber.com/events/details/it-s-a-fuuurry-spooky-day-12883
END:VEVENT

END:VCALENDAR
