BEGIN:VCALENDAR
VERSION:2.0
PRODID:-//ChamberMaster//Event Calendar 2.0//EN
METHOD:PUBLISH
X-PUBLISHED-TTL:P3D
REFRESH-INTERVAL:P3D
CALSCALE:GREGORIAN
BEGIN:VEVENT
DTSTART;VALUE=DATE:20180129
DTEND;VALUE=DATE:20180130
TRANSP:TRANSPARENT
X-MICROSOFT-CDO-ALLDAYEVENT:TRUE
SUMMARY:Jazz Ensemble Skills at OCC
DESCRIPTION:Intermediate and advanced instrumentalists will discuss\, write\, rehearse\, and perform modern big band jazz music. This laboratory environment will stress style\, articulation\, phrasing\, improvisation\, and ensemble skills for the advanced performer. Auditions will be held Monday\, January 29 at 7 P.M. All students are expected to have competent sight reading skills.\n\nDates: Monday\, January 29   May 7 (no class 2/19 or 3/26)\n\nTime: 6 PM   9 PM\n\nFee: $125
X-ALT-DESC;FMTTYPE=text/html:Intermediate and advanced instrumentalists will discuss\, write\, rehearse\, and perform modern big band jazz music. This laboratory environment will stress style\, articulation\, phrasing\, improvisation\, and ensemble skills for the advanced performer. Auditions will be held Monday\, January 29 at 7 P.M. All students are expected to have competent sight reading skills.<br />\n<strong>Dates: Monday\, January 29 &ndash\; May 7 (no class 2/19 or 3/26)<br />\nTime:&nbsp\;6 PM &ndash\; 9 PM<br />\nFee:&nbsp\;$125</strong>
LOCATION:Music 109
UID:e.2866.3451
SEQUENCE:3
DTSTAMP:20260424T141013Z
URL:https://www.costamesachamber.com/events/details/jazz-ensemble-skills-at-occ-3451
END:VEVENT

END:VCALENDAR
