BEGIN:VCALENDAR
VERSION:2.0
PRODID:-//ChamberMaster//Event Calendar 2.0//EN
METHOD:PUBLISH
X-PUBLISHED-TTL:P3D
REFRESH-INTERVAL:P3D
CALSCALE:GREGORIAN
BEGIN:VEVENT
DTSTART:20191019T010000Z
DTEND:20191019T060000Z
X-MICROSOFT-CDO-ALLDAYEVENT:FALSE
SUMMARY:Join Girls Inc. for the 4th Annual Dads for Daughters Texas Hold ’Em Tournament
DESCRIPTION:Girls Inc. of Orange County invites you for an evening of poker\, dinner\, cocktails and tunes while raising funds for a good cause! On Friday\, October 18 from 6:00-11:00 p.m.\, guests will take part in the fourth annual Dads for Daughters Texas Hold 'Em tournament while supporting Girls Inc.'s literacy programs. Tickets are just $100.00 and will make a huge impact on the various literacy programs offered by Girls Inc. of Orange County. In addition\, there are several levels of sponsorship opportunities ranging from $500.00 to $10\,000! Dads for Daughters is an auxiliary of Girls Inc. of Orange County with a three-fold mission: to create meaningful opportunities for greater engagement with our daughters\, become better dads to our daughters and role models to girls in our community through learning and educational opportunities\, and to instill in our own daughters the importance of community service through volunteering and financial support for Girls Inc. Girls Inc. is a non-profit organization with the mission to inspire all girls to be strong\, smart\, and bold. Working with young women in Kindergarten through high school\, the organization equips girls to navigate gender\, economic and social barriers in a way that enables them to grow into healthy\, educated and independent adults. For more information on the Dads for Daughters tournament and/or to register or learn more about sponsorship opportunities\, please visit https://www.girlsinc-oc.org/support/dads-for-daughters/
X-ALT-DESC;FMTTYPE=text/html:Girls Inc. of Orange County invites you for an evening of poker\, dinner\, cocktails and tunes while raising funds for a good cause! On Friday\, October 18 from 6:00-11:00 p.m.\, guests will take part in the fourth annual Dads for Daughters Texas Hold &lsquo\;Em tournament while supporting Girls Inc.&rsquo\;s literacy programs. Tickets are just $100.00 and will make a huge impact on the various literacy programs offered by Girls Inc. of Orange County. In addition\, there are several levels of sponsorship opportunities ranging from $500.00 to $10\,000! Dads for Daughters is an auxiliary of Girls Inc. of Orange County with a three-fold mission: to create meaningful opportunities for greater engagement with our daughters\, become better dads to our daughters and role models to girls in our community through learning and educational opportunities\, and to instill in our own daughters the importance of community service through volunteering and financial support for Girls Inc. Girls Inc. is a non-profit organization with the mission to inspire all girls to be strong\, smart\, and bold. Working with young women in Kindergarten through high school\, the organization equips girls to navigate gender\, economic and social barriers in a way that enables them to grow into healthy\, educated and independent adults. For more information on the Dads for Daughters tournament and/or to register or learn more about sponsorship opportunities\, please visit https://www.girlsinc-oc.org/support/dads-for-daughters/
LOCATION:Net Development Company: 3130 Airway Avenue\, Costa Mesa\, CA 92626
UID:e.2866.11680
SEQUENCE:3
DTSTAMP:20260423T052318Z
URL:https://www.costamesachamber.com/events/details/join-girls-inc-for-the-4th-annual-dads-for-daughters-texas-hold-em-tournament-11680
END:VEVENT

END:VCALENDAR
